BEGIN:VCALENDAR
VERSION:2.0
PRODID:-//ChamberMaster//Event Calendar 2.0//EN
METHOD:PUBLISH
X-PUBLISHED-TTL:P3D
REFRESH-INTERVAL:P3D
CALSCALE:GREGORIAN
BEGIN:VEVENT
DTSTART:20230307T230000Z
DTEND:20230308T000000Z
X-MICROSOFT-CDO-ALLDAYEVENT:FALSE
SUMMARY:Longmont Procurement Strategy Q&A
DESCRIPTION:Local public agencies need YOU!\n\nSt. Vrain Valley School District and the City of Longmont purchase a variety of commodities and services to support our constituents. Purchasing officers from both entities are teaming up to learn how we can be more inclusive of our small businesses and support meaningful opportunities for all.\n\nJoin us for a moderated session to provide feedback\, ask questions\, and learn more about opportunities to work with the city and school district. The session will help both entities develop informed strategies to effectively engage our small businesses.
X-ALT-DESC;FMTTYPE=text/html:<p><span class="ui-provider vt b c d e f g h i j k l m n o p q r s t u v w x y z ab ac ae af ag ah ai aj ak" dir="ltr">Local public agencies need YOU!</span></p>\n\n<p><span class="ui-provider vt b c d e f g h i j k l m n o p q r s t u v w x y z ab ac ae af ag ah ai aj ak" dir="ltr">St. Vrain Valley School District and the City of Longmont purchase a variety of commodities and services to support our constituents. Purchasing officers from both entities are teaming up to learn how we can be more inclusive of our small businesses and support meaningful opportunities for all.</span></p>\n\n<p><span class="ui-provider vt b c d e f g h i j k l m n o p q r s t u v w x y z ab ac ae af ag ah ai aj ak" dir="ltr">Join us for a moderated session to provide feedback\, ask questions\, and learn more about opportunities to work with the city and school district. The session will help both entities develop informed strategies to effectively engage our small businesses.&nbsp\;</span></p>\n
LOCATION:Longmont Area Chamber of Commerce
UID:e.3083.9631
SEQUENCE:3
DTSTAMP:20260423T070514Z
URL:https://members.longmontchamber.org/events/details/longmont-procurement-strategy-q-a-9631
END:VEVENT

END:VCALENDAR
