BEGIN:VCALENDAR
VERSION:2.0
PRODID:-//ChamberMaster//Event Calendar 2.0//EN
METHOD:PUBLISH
X-PUBLISHED-TTL:P3D
REFRESH-INTERVAL:P3D
CALSCALE:GREGORIAN
BEGIN:VEVENT
DTSTART;VALUE=DATE:20211008
DTEND;VALUE=DATE:20211018
TRANSP:TRANSPARENT
X-MICROSOFT-CDO-ALLDAYEVENT:TRUE
SUMMARY:Longmont Restaurant Week
DESCRIPTION:Longmont Restaurant Week returns for its fourth year this October! During the 10 days of Longmont Restaurant Week\, all participating fooderies and drinkeries offer a special menu at one of two price points: $18.71 or $28.71. These menus are designed by the business to showcase what they do best! Special to this year's event\, drinkeries throughout Longmont are crafting special beverages to raise a glass in celebration of Longmont's 150th birthday.\n\n\n\nLongmont Restaurant Week is presented by Dwellings Colorado Real Estate and produced by the Longmont Chamber. See which businesses are participating and learn more at www.LongmontRestaurantWeek.com.
X-ALT-DESC;FMTTYPE=text/html:Longmont Restaurant Week returns for its fourth year this October! During the 10 days of Longmont Restaurant Week\, all participating fooderies and drinkeries offer a special menu at one of two price points: $18.71 or $28.71. These menus are designed by the business to showcase what they do best! Special to this year&#39\;s event\, drinkeries throughout Longmont are crafting special beverages to raise a glass in celebration of Longmont&#39\;s 150th birthday.<br />\n<br />\nLongmont Restaurant Week is presented by Dwellings Colorado Real Estate and produced by the Longmont Chamber. See which businesses are participating and learn more at&nbsp\;<a data-auth="NotApplicable" data-linkindex="0" href="http://www.longmontrestaurantweek.com/" id="LPlnk833698" rel="noopener noreferrer" target="_blank">www.LongmontRestaurantWeek.com</a>.
LOCATION:Check out the event website at LongmontRestaurantWeek.com
UID:e.3083.8456
SEQUENCE:3
DTSTAMP:20260424T091933Z
URL:https://members.longmontchamber.org/events/details/longmont-restaurant-week-8456
END:VEVENT

END:VCALENDAR
