BEGIN:VCALENDAR
VERSION:2.0
PRODID:-//ChamberMaster//Event Calendar 2.0//EN
METHOD:PUBLISH
X-PUBLISHED-TTL:P3D
REFRESH-INTERVAL:P3D
CALSCALE:GREGORIAN
BEGIN:VEVENT
DTSTART:20211008T220000Z
DTEND:20211009T000000Z
X-MICROSOFT-CDO-ALLDAYEVENT:FALSE
SUMMARY:Longmont Restaurant Week Kick-Off Event & After Hours
DESCRIPTION:Join us to celebrate the return of Longmont Restaurant Week for its fourth year this October 8-17th! During the 10 days of Longmont Restaurant Week\, all participating fooderies and drinkeries offer a special menu at one of two price points: $18.71 or $28.71. These menus are designed by the business to showcase what they do best!\n\n\n\nThis kick-off event will include food\, drink\, and live music and is free and open to the public! There will also be a ribbon cutting celebrating the new Left Hand Brewing Garden Outdoor event space during the festivities.
X-ALT-DESC;FMTTYPE=text/html:Join us to celebrate the return of&nbsp\;Longmont Restaurant Week for its fourth year this October 8-17th! During the 10 days of Longmont Restaurant Week\, all participating fooderies and drinkeries offer a special menu at one of two price points: $18.71 or $28.71. These menus are designed by the business to showcase what they do best!<br />\n<br />\nThis kick-off event will include food\, drink\, and live music and is free and open to the public! There will also be a ribbon cutting celebrating the new Left Hand Brewing Garden Outdoor event space during the festivities.
LOCATION:The Garden at Left Hand Brewing\, (east of the tasting room) 1245 Boston Ave. Longmont\, CO 80501
UID:e.3083.8610
SEQUENCE:3
DTSTAMP:20260424T105443Z
URL:https://members.longmontchamber.org/events/details/longmont-restaurant-week-kick-off-event-after-hours-8610
END:VEVENT

END:VCALENDAR
