BEGIN:VCALENDAR
VERSION:2.0
PRODID:-//ChamberMaster//Event Calendar 2.0//EN
METHOD:PUBLISH
X-PUBLISHED-TTL:P3D
REFRESH-INTERVAL:P3D
CALSCALE:GREGORIAN
BEGIN:VEVENT
DTSTART:20200118T230000Z
DTEND:20200119T000000Z
X-MICROSOFT-CDO-ALLDAYEVENT:FALSE
SUMMARY:Longmont Symphony Family Concert: Carnival of the Animals and Peter & The Wolf
DESCRIPTION:Elliot Moore\, conductor\n\nAmber Salaz\, narrator\n\n\n\nSAINT-SA NS  Selections from Carnival of the Animals\n\nwith poetry by Jack Prelutsky\n\nPROKOFIEV  Peter and the Wolf
X-ALT-DESC;FMTTYPE=text/html:Elliot Moore\, conductor<br />\nAmber Salaz\, narrator<br />\n<br />\nSAINT-SA&Euml\;NS&nbsp\; Selections from Carnival of the Animals<br />\nwith poetry by Jack Prelutsky<br />\nPROKOFIEV&nbsp\; Peter and the Wolf
LOCATION:Vance Brand Civic Auditorium 600 E Mountain View Ave\, Longmont\, CO 80504
UID:e.3083.7340
SEQUENCE:3
DTSTAMP:20260425T214228Z
URL:https://members.longmontchamber.org/events/details/longmont-symphony-family-concert-carnival-of-the-animals-and-peter-the-wolf-7340
END:VEVENT

END:VCALENDAR
