BEGIN:VCALENDAR
VERSION:2.0
PRODID:-//ChamberMaster//Event Calendar 2.0//EN
METHOD:PUBLISH
X-PUBLISHED-TTL:P3D
REFRESH-INTERVAL:P3D
CALSCALE:GREGORIAN
BEGIN:VEVENT
DTSTART:20251115T160000Z
DTEND:20251116T020000Z
X-MICROSOFT-CDO-ALLDAYEVENT:FALSE
SUMMARY:Longtucky Showdown
DESCRIPTION:Longmont's Annual bouldering competition! Join us on Saturday\, November 15th for a redpoint round + finals show!\n\nEvent Schedule:\n\n\n	Collegiate & Open Category \n\n	(Collegiate Competitors: Please don't sign up here\, sign up via USAC)\n	\n	\n		Check-In: 9:30am\n		Climbing: 10:30am to 1:30pm\n		Finalists Announced: 2:30pm\n		\n		\n			Finalists will be selected from the top 5 male category and top 5 female category competitors in the Collegiate & Open Round\n		\n		\n	\n	\n	Citizens Category (Male/Female Advanced Category\, Male/Female Intermediate Category\, and Male/Female Beginner Category)\n	\n	\n		Citizens Check-In: 1:00pm\n		Citizen's Climbing Round: 2:00pm to 5:00pm\n		Citizen's Awards will be AFTER finals round.\n	\n	\n	FINALS ROUND - Free for Spectators!!\n	\n	\n		Finals Check-In: 4:30pm\n		Final's Climbing Round: ~5:30pm\n		Awards for all Categories after finals
X-ALT-DESC;FMTTYPE=text/html:<p>Longmont&#39\;s Annual bouldering competition! Join us on Saturday\, November 15th for a redpoint round + finals show!</p>\n\n<p>Event Schedule:</p>\n\n<ul>\n	<li><strong>Collegiate &amp\; Open Category&nbsp\;</strong><br />\n	<strong>(Collegiate Competitors: Please don&#39\;t sign up here\, sign up via USAC)</strong></li>\n	<li>\n	<ul>\n		<li>Check-In: 9:30am</li>\n		<li>Climbing: 10:30am to 1:30pm</li>\n		<li>Finalists Announced: 2:30pm</li>\n		<li>\n		<ul>\n			<li><em>Finalists will be selected from the top 5 male category and top 5 female category competitors in the Collegiate &amp\; Open Round</em></li>\n		</ul>\n		</li>\n	</ul>\n	</li>\n	<li><strong>Citizens Category (Male/Female Advanced Category\, Male/Female Intermediate Category\, and Male/Female Beginner Category)</strong></li>\n	<li>\n	<ul>\n		<li>Citizens Check-In: 1:00pm</li>\n		<li>Citizen&#39\;s Climbing Round: 2:00pm to 5:00pm</li>\n		<li>Citizen&#39\;s Awards will be AFTER finals round.</li>\n	</ul>\n	</li>\n	<li><strong>FINALS ROUND - Free for Spectators!!</strong></li>\n	<li>\n	<ul>\n		<li>Finals Check-In: 4:30pm</li>\n		<li>Final&#39\;s Climbing Round: ~5:30pm</li>\n		<li><em>Awards for all Categories after finals</em></li>\n	</ul>\n	</li>\n</ul>\n
LOCATION:Longmont Climbing Collective
UID:e.3083.14636
SEQUENCE:3
DTSTAMP:20260421T033223Z
URL:https://members.longmontchamber.org/events/details/longtucky-showdown-14636
END:VEVENT

END:VCALENDAR
