BEGIN:VCALENDAR
VERSION:2.0
PRODID:-//ChamberMaster//Event Calendar 2.0//EN
METHOD:PUBLISH
X-PUBLISHED-TTL:P3D
REFRESH-INTERVAL:P3D
CALSCALE:GREGORIAN
BEGIN:VEVENT
DTSTART:20260107T193000Z
DTEND:20260107T203000Z
X-MICROSOFT-CDO-ALLDAYEVENT:FALSE
SUMMARY:Lunch Hour Headhshot Event | The Studio at Branded Beet
DESCRIPTION:Come and get a fresh headshot because your LinkedIn photo from 2018 deserves better!\n\n\n\nEvery first Wednesday of the month\, stop by 356   Main St between 12:30 - 1:30pm for a quick headshot. No appointment needed - just drop in! Want to lock in a time? Email us! Anne@brandedbeet.com\n\n\n\nWhat to expect:\n\n10 15 minutes in front of the camera\n\n$95 for 3 - 5 professionally edited shots delivered within 2 business days\n\nBring a friend and both get 10% off!
X-ALT-DESC;FMTTYPE=text/html:<span style="color:rgb(29\, 31\, 37)\; font-family:-apple-system\,system-ui\,blinkmacsystemfont\,segoe ui\,roboto\,oxygen-sans\,ubuntu\,cantarell\,helvetica neue\,sans-serif\,apple color emoji\,segoe ui emoji\,segoe ui symbol">Come and get a fresh headshot because your LinkedIn photo from 2018 deserves better!</span><br />\n<br />\n<span style="color:rgb(29\, 31\, 37)\; font-family:-apple-system\,system-ui\,blinkmacsystemfont\,segoe ui\,roboto\,oxygen-sans\,ubuntu\,cantarell\,helvetica neue\,sans-serif\,apple color emoji\,segoe ui emoji\,segoe ui symbol">Every first Wednesday of the month\, stop by 356 &frac12\; Main St between 12:30 - 1:30pm for a quick headshot. No appointment needed - just drop in! Want to lock in a time? Email us! Anne@brandedbeet.com</span><br />\n<br />\n<span style="color:rgb(29\, 31\, 37)\; font-family:-apple-system\,system-ui\,blinkmacsystemfont\,segoe ui\,roboto\,oxygen-sans\,ubuntu\,cantarell\,helvetica neue\,sans-serif\,apple color emoji\,segoe ui emoji\,segoe ui symbol">What to expect:</span><br />\n<span style="color:rgb(29\, 31\, 37)\; font-family:-apple-system\,system-ui\,blinkmacsystemfont\,segoe ui\,roboto\,oxygen-sans\,ubuntu\,cantarell\,helvetica neue\,sans-serif\,apple color emoji\,segoe ui emoji\,segoe ui symbol">10&ndash\;15 minutes in front of the camera</span><br />\n<span style="color:rgb(29\, 31\, 37)\; font-family:-apple-system\,system-ui\,blinkmacsystemfont\,segoe ui\,roboto\,oxygen-sans\,ubuntu\,cantarell\,helvetica neue\,sans-serif\,apple color emoji\,segoe ui emoji\,segoe ui symbol">$95 for 3 - 5 professionally edited shots delivered within 2 business days</span><br />\n<span style="color:rgb(29\, 31\, 37)\; font-family:-apple-system\,system-ui\,blinkmacsystemfont\,segoe ui\,roboto\,oxygen-sans\,ubuntu\,cantarell\,helvetica neue\,sans-serif\,apple color emoji\,segoe ui emoji\,segoe ui symbol">Bring a friend and both get 10% off!</span>
LOCATION:The Studio at Branded Beet 356 1/2 Main St #103 Longmont\, CO 80501
UID:e.3083.13973
SEQUENCE:3
DTSTAMP:20260421T003816Z
URL:https://members.longmontchamber.org/events/details/lunch-hour-headhshot-event-the-studio-at-branded-beet-01-07-2026-13973
END:VEVENT

END:VCALENDAR
