BEGIN:VCALENDAR
VERSION:2.0
PRODID:-//ChamberMaster//Event Calendar 2.0//EN
METHOD:PUBLISH
X-PUBLISHED-TTL:P3D
REFRESH-INTERVAL:P3D
CALSCALE:GREGORIAN
BEGIN:VEVENT
DTSTART:20240410T173000Z
DTEND:20240410T193000Z
X-MICROSOFT-CDO-ALLDAYEVENT:FALSE
SUMMARY:Lunch & Learn
DESCRIPTION:Lunch with us to learn about our senior care services and resources.\n\nRSVP for this event - Seating is limited\, first come first serve. 720-815-1204\n\n\n\nMENU\n\nFIRST COURSE\n\nLobster Bisque\n\n\n\nSECOND COURSE\n\nRoasted Beet Salad with Mandarin Oranges\, Candied Pecans\, Feta Cheese & Vinaigrette\n\n\n\nENTR E\n\nChicken Piccata with Fettuccini & Asparagus\n\n\n\nDESSERT\n\nTiramisu
X-ALT-DESC;FMTTYPE=text/html:Lunch with us to learn about our senior care services and resources.<br />\nRSVP for this event - Seating is limited\, first come first serve. 720-815-1204<br />\n<br />\n<strong>MENU</strong><br />\nFIRST COURSE<br />\nLobster Bisque<br />\n<br />\nSECOND COURSE<br />\nRoasted Beet Salad with Mandarin Oranges\, Candied Pecans\, Feta Cheese &amp\; Vinaigrette<br />\n<br />\nENTR&Egrave\;E<br />\nChicken Piccata with Fettuccini &amp\; Asparagus<br />\n<br />\nDESSERT<br />\nTiramisu<br />\n&nbsp\;
LOCATION:1850 S. Hover St. Longmont\, CO 80501
UID:e.3083.10078
SEQUENCE:3
DTSTAMP:20260422T104816Z
URL:https://members.longmontchamber.org/events/details/lunch-learn-04-10-2024-10078
END:VEVENT

END:VCALENDAR
