BEGIN:VCALENDAR
VERSION:2.0
PRODID:-//ChamberMaster//Event Calendar 2.0//EN
METHOD:PUBLISH
X-PUBLISHED-TTL:P3D
REFRESH-INTERVAL:P3D
CALSCALE:GREGORIAN
BEGIN:VEVENT
DTSTART:20240614T173000Z
DTEND:20240614T200000Z
X-MICROSOFT-CDO-ALLDAYEVENT:FALSE
SUMMARY:Lunch & Learn
DESCRIPTION:Lunch with us to learn about our senior care services and resources.\n\nRSVP for this event - Seating is limited\, first come first serve. \n\n\n\nMENU\n\nFIRST COURSE\n\nLobster Bisque\n\n\n\nSECOND COURSE\n\nRoasted Beet Salad with Mandarin Oranges\, Candied Pecans\, Feta Cheese & Vinaigrette\n\n\n\nENTR E\n\nChicken Piccata with Fettuccini & Asparagus\n\n\n\nDESSERT\n\nTiramisu
X-ALT-DESC;FMTTYPE=text/html:<span style="background-color:rgb(250\, 250\, 250)\; color:rgb(66\, 66\, 66)\; font-family:arial\,helvetica\,sans-serif\; font-size:12px">Lunch with us to learn about our senior care services and resources.</span><br />\n<span style="background-color:rgb(250\, 250\, 250)\; color:rgb(66\, 66\, 66)\; font-family:arial\,helvetica\,sans-serif\; font-size:12px">RSVP for this event - Seating is limited\, first come first serve.&nbsp\;</span><br />\n<br />\n<strong>MENU</strong><br />\n<span style="background-color:rgb(250\, 250\, 250)\; color:rgb(66\, 66\, 66)\; font-family:arial\,helvetica\,sans-serif\; font-size:12px">FIRST COURSE</span><br />\n<span style="background-color:rgb(250\, 250\, 250)\; color:rgb(66\, 66\, 66)\; font-family:arial\,helvetica\,sans-serif\; font-size:12px">Lobster Bisque</span><br />\n<br />\n<span style="background-color:rgb(250\, 250\, 250)\; color:rgb(66\, 66\, 66)\; font-family:arial\,helvetica\,sans-serif\; font-size:12px">SECOND COURSE</span><br />\n<span style="background-color:rgb(250\, 250\, 250)\; color:rgb(66\, 66\, 66)\; font-family:arial\,helvetica\,sans-serif\; font-size:12px">Roasted Beet Salad with Mandarin Oranges\, Candied Pecans\, Feta Cheese &amp\; Vinaigrette</span><br />\n<br />\n<span style="background-color:rgb(250\, 250\, 250)\; color:rgb(66\, 66\, 66)\; font-family:arial\,helvetica\,sans-serif\; font-size:12px">ENTR&Egrave\;E</span><br />\n<span style="background-color:rgb(250\, 250\, 250)\; color:rgb(66\, 66\, 66)\; font-family:arial\,helvetica\,sans-serif\; font-size:12px">Chicken Piccata with Fettuccini &amp\; Asparagus</span><br />\n<br />\n<span style="background-color:rgb(250\, 250\, 250)\; color:rgb(66\, 66\, 66)\; font-family:arial\,helvetica\,sans-serif\; font-size:12px">DESSERT</span><br />\n<span style="background-color:rgb(250\, 250\, 250)\; color:rgb(66\, 66\, 66)\; font-family:arial\,helvetica\,sans-serif\; font-size:12px">Tiramisu</span>
LOCATION:1850 S. Hover St. Longmont\, CO 80501
UID:e.3083.10084
SEQUENCE:3
DTSTAMP:20260422T074643Z
URL:https://members.longmontchamber.org/events/details/lunch-learn-06-14-2024-10084
END:VEVENT

END:VCALENDAR
