BEGIN:VCALENDAR
VERSION:2.0
PRODID:-//ChamberMaster//Event Calendar 2.0//EN
METHOD:PUBLISH
X-PUBLISHED-TTL:P3D
REFRESH-INTERVAL:P3D
CALSCALE:GREGORIAN
BEGIN:VEVENT
DTSTART:20231028T190000Z
DTEND:20231028T210000Z
X-MICROSOFT-CDO-ALLDAYEVENT:FALSE
SUMMARY:MACC Trick or Treat Street
DESCRIPTION:Trick or Treat Street is a free event for vendors . Estimated 300plus families that you can interact with on this date. Must have a free giveaway - no selling at this event.  interested vendors contact info@meadchamber.org \n\nOct 28th  1pm to 3pmish. Main street will be closed for this event- tables only- no tents requested.
X-ALT-DESC;FMTTYPE=text/html:Trick or Treat Street is a free event for vendors . Estimated 300plus families that you can interact with on this date. Must have a free giveaway - no selling at this event.&nbsp\; interested vendors contact info@meadchamber.org&nbsp\;<br />\nOct 28th&nbsp\; 1pm to 3pmish. Main street will be closed for this event- tables only- no tents requested.&nbsp\;
LOCATION:Downtown Mead\, CO
UID:e.3083.9959
SEQUENCE:3
DTSTAMP:20260422T200949Z
URL:https://members.longmontchamber.org/events/details/macc-trick-or-treat-street-9959
END:VEVENT

END:VCALENDAR
