BEGIN:VCALENDAR
VERSION:2.0
PRODID:-//ChamberMaster//Event Calendar 2.0//EN
METHOD:PUBLISH
X-PUBLISHED-TTL:P3D
REFRESH-INTERVAL:P3D
CALSCALE:GREGORIAN
BEGIN:VEVENT
DTSTART:20210925T220000Z
DTEND:20210926T020000Z
X-MICROSOFT-CDO-ALLDAYEVENT:FALSE
SUMMARY:Mane Event at the Colorado Horse Rescue Ranch
DESCRIPTION:For the first time ever\, the Mane Event will be held at the CHR ranch. Mark your calendars for a night to remember on September 25\, 2021 from 4pm to 8pm. This fundraising event will include a farm-to-table dinner\, a complimentary bar\, and interactions with the herd.\n\n\nThis farm-to-table benefit dinner will be catered by Blackbelly\, an elite dining destination in Colorado founded by the Top Chef winner\, Chef Hosea Rosenberg. Blackbelly has been a top-rated restaurant in Boulder since its founding\, boasting a mission that food will always start with seasonal\, local Colorado-grown ingredients\, and pasture raised\, sustainable animals.\n\nTime: 4:00pm - 8:00pm\n\nLocation: Colorado Horse Rescue in Longmont\, CO
X-ALT-DESC;FMTTYPE=text/html:<p><strong>For the first time ever\,</strong>&nbsp\;the Mane Event will be held at the CHR ranch. Mark your calendars for a night to remember on&nbsp\;<strong>September 25\, 2021 from 4pm to 8pm.</strong>&nbsp\;This fundraising event will include a farm-to-table dinner\, a complimentary bar\, and interactions with the herd.</p>\n\n<div>\n<p>This farm-to-table benefit dinner will be catered by&nbsp\;<strong>Blackbelly</strong>\, an elite dining destination in Colorado founded by the Top Chef winner\, Chef Hosea Rosenberg. Blackbelly has been a top-rated restaurant in Boulder since its founding\, boasting a mission that food will always start with seasonal\, local Colorado-grown ingredients\, and pasture raised\, sustainable animals.</p>\n</div>\nTime: 4:00pm - 8:00pm<br />\nLocation: Colorado Horse Rescue in Longmont\, CO
LOCATION:Colorado Horse Rescue 10386 N. 65th St. Longmont\, CO 80503
UID:e.3083.8476
SEQUENCE:3
DTSTAMP:20260424T124400Z
URL:https://members.longmontchamber.org/events/details/mane-event-at-the-colorado-horse-rescue-ranch-8476
END:VEVENT

END:VCALENDAR
