BEGIN:VCALENDAR
VERSION:2.0
PRODID:-//ChamberMaster//Event Calendar 2.0//EN
METHOD:PUBLISH
X-PUBLISHED-TTL:P3D
REFRESH-INTERVAL:P3D
CALSCALE:GREGORIAN
BEGIN:VEVENT
DTSTART:20240217T220000Z
DTEND:20240218T060000Z
X-MICROSOFT-CDO-ALLDAYEVENT:FALSE
SUMMARY:Mardis Gras at the Dickens!
DESCRIPTION:The Dickens Opera House Proudly Presents:  MARDI GRAS 2024\n\nOn Sale Now!!\n\nFEATURING\n\n\n	Live New Orleans Jazz\n	Special Performances & DJs\n	Mardi Gras Beads & Throws\n	Creole & Cajun Cuisine\n	Bourbon Street Drink Specials\n\n\nSpace is limited so book early to guarantee your spot.\n\nCHOOSE YOUR TIME\n\n\n	3 PM (all ages)\n	8 PM (21+ only)\n\nImmerse yourself in the vibrant spirit of New Orleans right in the heart of Longmont\, Colorado at the historic Dickens Opera House. Our Mardi Gras show is a colorful explosion of culture\, music\, and cuisine\, bringing the soul of Bourbon Street to your doorstep!
X-ALT-DESC;FMTTYPE=text/html:<p>The Dickens Opera House Proudly Presents:&nbsp\; MARDI GRAS 2024</p>\n\n<p>On Sale Now!!</p>\n\n<p>FEATURING</p>\n\n<ul>\n	<li>Live New Orleans Jazz</li>\n	<li>Special Performances &amp\; DJs</li>\n	<li>Mardi Gras Beads &amp\; Throws</li>\n	<li>Creole &amp\; Cajun Cuisine</li>\n	<li>Bourbon Street Drink Specials</li>\n</ul>\n\n<p>Space is limited so book early to guarantee your spot.</p>\n\n<p>CHOOSE YOUR TIME</p>\n\n<ul>\n	<li>3 PM (all ages)</li>\n	<li>8 PM (21+ only)</li>\n</ul>\n<span style="font-size:14px"><span style="color:rgb(111\, 114\, 135)\; font-family:neue plak\,-apple-system\,blinkmacsystemfont\,roboto\,helvetica neue\,helvetica\,tahoma\,arial\,sans-serif">Immerse yourself in the vibrant spirit of New Orleans right in the heart of Longmont\, Colorado at the historic Dickens Opera House. Our Mardi Gras show is a colorful explosion of culture\, music\, and cuisine\, bringing the soul of Bourbon Street to your doorstep!</span></span>
LOCATION:Dickens Opera House 302 Main Street Longmont\, CO 80501
UID:e.3083.10012
SEQUENCE:3
DTSTAMP:20260422T133009Z
URL:https://members.longmontchamber.org/events/details/mardis-gras-at-the-dickens-10012
END:VEVENT

END:VCALENDAR
