BEGIN:VCALENDAR
VERSION:2.0
PRODID:-//ChamberMaster//Event Calendar 2.0//EN
METHOD:PUBLISH
X-PUBLISHED-TTL:P3D
REFRESH-INTERVAL:P3D
CALSCALE:GREGORIAN
BEGIN:VEVENT
DTSTART:20210707T140000Z
DTEND:20210707T150000Z
X-MICROSOFT-CDO-ALLDAYEVENT:FALSE
SUMMARY:Market Research: Reduce Your Risks\, Find the Right Labor
DESCRIPTION:Finding the right labor and deciding how to grow your business can be difficult\, time consuming\, and costly. Join us at 8 am on Wednesday July 7 to learn how to reduce your labor and growth risks by making informed decisions. We will cover:\n\n\n	Making informed decision\n	Investing in the right growth opportunities\n	Finding the right labor\n\nThis is a hybrid event hosted at the Longmont Chamber\, 528 Main St. At the request of the presenter\, we are requiring that in-person guests wear masks.\n\n\n\nPresented by Reach Research and Marketing Inc. About Reach:\n\nReach Research and Marketing Inc. (Reach) is a boutique marketing and research firm founded in Colorado in 2015 by Genevieve Clayton and Evan Ritson. Focused on helping clients understand a market and their place in it\, Reach has assisted numerous Fortune 500 companies with better understanding their own business and customers with the use of market research. From market analysis\, to new product development\, to mergers and acquisitions\, Reach can provide your organization with the knowledge and industry intelligence needed to make informed business decisions. Learn more at reachinc.solutions
X-ALT-DESC;FMTTYPE=text/html:<p>Finding the right labor and deciding how to grow your business can be difficult\, time consuming\, and costly. Join us at 8 am on Wednesday July 7 to learn how to reduce your labor and growth risks by making informed decisions. We will cover:</p>\n\n<ul type="disc">\n	<li>Making informed decision</li>\n	<li>Investing in the right growth opportunities</li>\n	<li>Finding the right labor</li>\n</ul>\nThis is a hybrid event hosted at the Longmont Chamber\, 528 Main St. <strong>At the request of the presenter\, we are requiring that in-person guests wear masks</strong>.<br />\n<br />\n<strong>Presented by Reach Research and Marketing Inc. About Reach:</strong>\n\n<p>Reach Research and Marketing Inc. (Reach) is a boutique marketing and research firm founded in Colorado in 2015 by Genevieve Clayton and Evan Ritson. Focused on helping clients understand a market and their place in it\, Reach has assisted numerous Fortune 500 companies with better understanding their own business and customers with the use of market research. From market analysis\, to new product development\, to mergers and acquisitions\, Reach can provide your organization with the knowledge and industry intelligence needed to make informed business decisions. Learn more at&nbsp\;<a href="https://reachinc.solutions/">reachinc.solutions</a></p>\n\n<div>&nbsp\;</div>\n
LOCATION:Hybrid event hosted at the Longmont Area Chamber of Commerce\, 528 Main Street\, Longmont CO 80501. A link to join virtually will be sent with registration.
UID:e.3083.8459
SEQUENCE:3
DTSTAMP:20260424T141910Z
URL:https://members.longmontchamber.org/events/details/market-research-reduce-your-risks-find-the-right-labor-8459
END:VEVENT

END:VCALENDAR
