BEGIN:VCALENDAR
VERSION:2.0
PRODID:-//ChamberMaster//Event Calendar 2.0//EN
METHOD:PUBLISH
X-PUBLISHED-TTL:P3D
REFRESH-INTERVAL:P3D
CALSCALE:GREGORIAN
BEGIN:VEVENT
DTSTART:20220720T233000Z
DTEND:20220721T013000Z
X-MICROSOFT-CDO-ALLDAYEVENT:FALSE
SUMMARY:Marketing Basics for Small Business
DESCRIPTION:As a small business owner\, you might not be able to afford a graphic designer or marketing professional for your daily social\, flyers\, ads\, website\, marketing and content needs. But you do know you need to be posting more often and trying to figure out how to get in front of your kinda person.\n\n\n\nThis workshop will cover inexpensive\, cost effective and efficient ways to market your business and get the word out. We'll cover basic design principles and free design programs you can use for your content graphics\, flyers\, social posts and more.\n\n\n\nBy the end of the class you should feel more confident and less frustrated with your options and ability to reach the people that are looking for your kinda business.
X-ALT-DESC;FMTTYPE=text/html:<div>\n<p>As a small business owner\, you might not be able to afford a graphic designer or marketing professional for your daily social\, flyers\, ads\, website\, marketing and content needs. But you do know you need to be posting more often and trying to figure out how to get in front of your kinda person.<br />\n<br />\nThis workshop will cover inexpensive\, cost effective and efficient ways to market your business and get the word out. We&#39\;ll cover basic design principles and free design programs you can use for your content graphics\, flyers\, social posts and more.<br />\n<br />\nBy the end of the class you should feel more confident and less frustrated with your options and ability to reach the people that are looking for your kinda business.</p>\n</div>\n
LOCATION:The Times Collaborative | 338 Main St\, Longmont\, CO 80501
UID:e.3083.8828
SEQUENCE:3
DTSTAMP:20260423T192902Z
URL:https://members.longmontchamber.org/events/details/marketing-basics-for-small-business-8828
END:VEVENT

END:VCALENDAR
