BEGIN:VCALENDAR
VERSION:2.0
PRODID:-//ChamberMaster//Event Calendar 2.0//EN
METHOD:PUBLISH
X-PUBLISHED-TTL:P3D
REFRESH-INTERVAL:P3D
CALSCALE:GREGORIAN
BEGIN:VEVENT
DTSTART:20250926T000000Z
DTEND:20250926T030000Z
X-MICROSOFT-CDO-ALLDAYEVENT:FALSE
SUMMARY:Max Mackey Band @ FestGarten
DESCRIPTION:The Max Mackey Band to the amazing Wibby Brewing Pavilion stage! **Free show**\n\nPlus a fabulous acoustic T'weener set from Steve Suh and Jeff Ames in their new duo "West of Home"\n\nDon't miss this fabulous night\, as the band weaves between its Americana Rock and Roll vibe\, swirling vocal harmonies\, and boogie down jams that'll have you moving and shaking.\n\n"Max Mackey plays at a level that exceeds our small part of the world. His voice captures an entire room\, his passion and love for music and sharing it with all those around him is quite visible from the first strum to the last note! It's tangible to see Max's passion for what he does and it shows through his music. His appreciation of friends\, family\, his fellow musicians\, but most of all\, his audiences is genuine." - KRFC 88.9 Radio
X-ALT-DESC;FMTTYPE=text/html:<div>The Max Mackey Band to the amazing Wibby Brewing Pavilion stage! **Free show**</div>\n\n<div>Plus a fabulous acoustic T&#39\;weener set from Steve Suh and Jeff Ames in their new duo &quot\;West of Home&quot\;</div>\n\n<div>Don&#39\;t miss this fabulous night\, as the band weaves between its Americana Rock and Roll vibe\, swirling vocal harmonies\, and boogie down jams that&#39\;ll have you moving and shaking.</div>\n\n<div>&quot\;Max Mackey plays at a level that exceeds our small part of the world. His voice captures an entire room\, his passion and love for music and sharing it with all those around him is quite visible from the first strum to the last note! It&rsquo\;s tangible to see Max&rsquo\;s passion for what he does and it shows through his music. His appreciation of friends\, family\, his fellow musicians\, but most of all\, his audiences is genuine.&quot\; - KRFC 88.9 Radio</div>\n
LOCATION:Wibby Brewing
UID:e.3083.14218
SEQUENCE:3
DTSTAMP:20260421T063807Z
URL:https://members.longmontchamber.org/events/details/max-mackey-band-festgarten-14218
END:VEVENT

END:VCALENDAR
