BEGIN:VCALENDAR
VERSION:2.0
PRODID:-//ChamberMaster//Event Calendar 2.0//EN
METHOD:PUBLISH
X-PUBLISHED-TTL:P3D
REFRESH-INTERVAL:P3D
CALSCALE:GREGORIAN
BEGIN:VEVENT
DTSTART:20250510T190000Z
DTEND:20250510T220000Z
X-MICROSOFT-CDO-ALLDAYEVENT:FALSE
SUMMARY:May You Be Well Community Event
DESCRIPTION:A collection of local Longmont businesses that bring wellness into your life\, your body\, your financial future\, and your personal happiness.\n\n\n\nOpportunity to win an eBike! (no purchase necessary)
X-ALT-DESC;FMTTYPE=text/html:<br />\n<span style="font-size:22px\;">A collection of local Longmont businesses that bring wellness into your life\, your body\, your financial future\, and your personal happiness.<br />\n<br />\nOpportunity to win an eBike! (no purchase necessary)</span>
LOCATION:Spice eBikes
UID:e.3083.13307
SEQUENCE:3
DTSTAMP:20260421T142905Z
URL:https://members.longmontchamber.org/events/details/may-you-be-well-community-event-13307
END:VEVENT

END:VCALENDAR
