BEGIN:VCALENDAR
VERSION:2.0
PRODID:-//ChamberMaster//Event Calendar 2.0//EN
METHOD:PUBLISH
X-PUBLISHED-TTL:P3D
REFRESH-INTERVAL:P3D
CALSCALE:GREGORIAN
BEGIN:VEVENT
DTSTART;VALUE=DATE:20230610
DTEND;VALUE=DATE:20230611
TRANSP:TRANSPARENT
X-MICROSOFT-CDO-ALLDAYEVENT:TRUE
SUMMARY:MEAD vendor and sponsor opportunity - Summer Block Party
DESCRIPTION:Join the MEAD AREA CHAMBER of Commerce for our Annual Block Party-- the kick off Summer event!! Food trucks\, Children's activities\, local vendors\, Beer/wine\, live music\, Corn Hole tournament\, and MORE!\n\n\n\nTo be a vendor or to sponsor: https://meadchamber.org/event/mead-summer-block-part-2023
X-ALT-DESC;FMTTYPE=text/html:Join the MEAD AREA CHAMBER of Commerce for our Annual Block Party-- the kick off Summer event!! Food trucks\, Children&#39\;s activities\, local vendors\, Beer/wine\, live music\, Corn Hole tournament\, and MORE!<br />\n<br />\nTo be a vendor or to sponsor: https://meadchamber.org/event/mead-summer-block-part-2023<br />\n<br />\n<br />\n<br />\n<br />\n<br />\n&nbsp\;
LOCATION:
UID:e.3083.9685
SEQUENCE:3
DTSTAMP:20260423T023223Z
URL:https://members.longmontchamber.org/events/details/mead-vendor-and-sponsor-opportunity-summer-block-party-9685
END:VEVENT

END:VCALENDAR
