BEGIN:VCALENDAR
VERSION:2.0
PRODID:-//ChamberMaster//Event Calendar 2.0//EN
METHOD:PUBLISH
X-PUBLISHED-TTL:P3D
REFRESH-INTERVAL:P3D
CALSCALE:GREGORIAN
BEGIN:VEVENT
DTSTART:20210324T230000Z
DTEND:20210325T000000Z
X-MICROSOFT-CDO-ALLDAYEVENT:FALSE
SUMMARY:Megamixer - Northwest Chamber Alliance Virtual Networking Event
DESCRIPTION:Network with the members of eight regional chambers of commerce at the Northwest Chamber Alliance Megamixer! This virtual event features breakout rooms to facilitate easy conversations between members of the Boulder\, Lafayette\, Latino\, LGBTQ\, Longmont\, Louisville\, Niwot and Superior chambers
X-ALT-DESC;FMTTYPE=text/html:Network with the members of eight regional chambers of commerce at the Northwest Chamber Alliance Megamixer! This virtual event features breakout rooms to facilitate easy conversations between members of the Boulder\, Lafayette\, Latino\, LGBTQ\, Longmont\, Louisville\, Niwot and Superior chambers&nbsp\;
LOCATION:A link to join the Zoom call will be emailed to you after registration.
UID:e.3083.7790
SEQUENCE:3
DTSTAMP:20260424T231125Z
URL:https://members.longmontchamber.org/events/details/megamixer-northwest-chamber-alliance-virtual-networking-event-7790
END:VEVENT

END:VCALENDAR
