BEGIN:VCALENDAR
VERSION:2.0
PRODID:-//ChamberMaster//Event Calendar 2.0//EN
METHOD:PUBLISH
X-PUBLISHED-TTL:P3D
REFRESH-INTERVAL:P3D
CALSCALE:GREGORIAN
BEGIN:VEVENT
DTSTART:20200512T160000Z
DTEND:20200512T170000Z
X-MICROSOFT-CDO-ALLDAYEVENT:FALSE
SUMMARY:Member Event: All About Service Animals (via Zoom)
DESCRIPTION:Center for People With Disabilities presents:\n\n\n\nAll About Service Animals   What you Need to Know\n\n\n\nPlease join CPWD for a workshop and discussion around service animals.\n\nThis workshop is designed for individuals and business owners that want to\n\nlearn more about interacting with service animals\, laws that protect service\n\nanimals and improving customer service for individuals with disabilities. In\n\nthis workshop we will cover:\n\n\n\n* What is a Service Animal?\n\n* How are Service Animals different from Emotional Support Animals?\n\n* Definitions\, rights\, and responsibilities of service animal users under the ADA\n\n* Rights and responsibilities of covered entities under the ADA\n\n* Customer Service for individuals with disabilities and best practices\n\nThank you to the First National Bank of Omaha Longs Peak Branch and the\n\nLongmont Chamber for supporting this event.\n\n\n\nWhere: Zoom online meeting (link sent upon registration)\n\nWhen: Quarterly on the 2nd Tuesday of the month from 10:00-11am\n\nFebruary 11th \, May 12th \, August 11th \, and November 10th\n\nNo cost to participate\n\n \n\n\n\nFor more information or to request an accommodation\, please contact:\n\nDiane Groff\, Longmont Manager Diane@cpwd.org 303-772-3250 x 252
X-ALT-DESC;FMTTYPE=text/html:<p>Center for People With Disabilities&nbsp\;presents:<br />\n<br />\n<em><strong>All About Service Animals &ndash\; What you Need to Know</strong></em><br />\n<br />\nPlease join CPWD for a workshop and discussion around service animals.<br />\nThis workshop is designed for individuals and business owners that want to<br />\nlearn more about interacting with service animals\, laws that protect service<br />\nanimals and improving customer service for individuals with disabilities. In<br />\nthis workshop we will cover:<br />\n<br />\n* What is a Service Animal?<br />\n* How are Service Animals different from&nbsp\;Emotional Support Animals?<br />\n* Definitions\, rights\, and responsibilities of&nbsp\;service animal users under the ADA<br />\n* Rights and responsibilities of covered entities&nbsp\;under the ADA<br />\n* Customer Service for individuals with&nbsp\;disabilities and best practices</p>\n\n<p>Thank you to the First National Bank of Omaha Longs Peak Branch and the<br />\nLongmont Chamber for supporting this event.<br />\n<br />\n<em><strong>Where:</strong></em>&nbsp\;Zoom online meeting (link sent upon registration)<br />\n<em><strong>When:</strong></em> Quarterly on the 2nd Tuesday of the month from 10:00-11am<br />\nFebruary 11th \, May 12th \, August 11th \, and November 10th<br />\nNo cost to participate<br />\n&nbsp\;</p>\n\n<p><br />\nFor more information or to request an accommodation\, please contact:<br />\nDiane Groff\, Longmont Manager Diane@cpwd.org 303-772-3250 x 252</p>\n
LOCATION:Zoom online meeting Meeting link will be sent upon completed registration.
UID:e.3083.7402
SEQUENCE:3
DTSTAMP:20260425T134420Z
URL:https://members.longmontchamber.org/events/details/member-event-all-about-service-animals-via-zoom-7402
END:VEVENT

END:VCALENDAR
