BEGIN:VCALENDAR
VERSION:2.0
PRODID:-//ChamberMaster//Event Calendar 2.0//EN
METHOD:PUBLISH
X-PUBLISHED-TTL:P3D
REFRESH-INTERVAL:P3D
CALSCALE:GREGORIAN
BEGIN:VEVENT
DTSTART:20190927T140000Z
DTEND:20190927T160000Z
X-MICROSOFT-CDO-ALLDAYEVENT:FALSE
SUMMARY:Member Event: Business Workshop - Why Salespeople Fail...and What to Do About It
DESCRIPTION:WORKSHOP\n\nSeptember 27\, 2019\n\n8:00 to 10:00 am\n\n\n\nHave you ever heard (or made!) the excuses salespeople often give for underperforming?\n\n	I'm too busy to prospect\n	It always comes down to price\n	Prospects don't listen\n	I can't find anyone to talk to\n	No one ever has a budget for our product/service\n\n\n\nHave you found yourself caught in a rut of prospect chasing\, painfully long selling cycles\, costly price concessions\, eroding margins\, and unmet sales forecasts?\n\n\n\nIn this workshop\, you will learn how to:\n\n\n\n  Minimize the time spent with prospects who will never buy\n\n\n\n  Go into the sales process\, guided by your system\, not the prospect's\n\n\n\n  NOT give away free consulting\n\n\n\n  Use good sales habits that build up your margins\n\n\n\n\n\nJoin us as Sandler trainer Ed Kerr shares some practical insights on how to re-choreograph the buyer/seller dance so that the seller leads and the buyer closes!\n\n\n\n\n\nINVESTMENT: $69 Includes refreshments and workshop materials\n\nREGISTRATION: Please contact Sharon Willms 970-292-8490\n\nsharon.willms@sandler.com \n\nLOCATION: Sandler Training \n\nLocated in the Chase Bank building\n\n200 East 7th Street\, Suite 200\, Loveland
X-ALT-DESC;FMTTYPE=text/html:<span style="color:black"><span style="font-family:verdana\,sans-serif"><span style="font-size:10.0pt">WORKSHOP<br />\nSeptember 27\, 2019<br />\n8:00 to 10:00 am<br />\n<br />\nHave you ever heard (or made!) the excuses salespeople often give for underperforming?</span></span></span>\n<ul>\n	<li><span style="font-family:verdana\,sans-serif"><span style="font-size:10.0pt">I&rsquo\;m too busy to prospect</span></span></li>\n	<li><span style="font-family:verdana\,sans-serif"><span style="font-size:10.0pt">It always comes down to price</span></span></li>\n	<li><span style="font-family:verdana\,sans-serif"><span style="font-size:10.0pt">Prospects don&rsquo\;t listen</span></span></li>\n	<li><span style="font-family:verdana\,sans-serif"><span style="font-size:10.0pt">I can&rsquo\;t find anyone to talk to</span></span></li>\n	<li><span style="font-family:verdana\,sans-serif"><span style="font-size:10.0pt">No one ever has a budget for our product/service</span></span></li>\n</ul>\n<br />\n<span style="color:black"><span style="font-family:verdana\,sans-serif"><span style="font-size:10.0pt">Have you found yourself caught in a rut of prospect chasing\, painfully long selling cycles\, costly price concessions\, eroding margins\, and unmet sales forecasts?<br />\n<br />\nIn this workshop\, you will learn how to:<br />\n<br />\n&bull\; Minimize the time spent with prospects who will never buy<br />\n<br />\n&bull\; Go into the sales process\, guided by your system\, not the prospect&rsquo\;s<br />\n<br />\n&bull\; NOT give away free consulting<br />\n<br />\n&bull\; Use good sales habits that build up your margins<br />\n<br />\n<br />\nJoin us as Sandler trainer Ed Kerr shares some practical insights on how to re-choreograph the buyer/seller dance so that the seller leads and the buyer closes!<br />\n<br />\n<br />\nINVESTMENT: $69 Includes refreshments and workshop materials<br />\nREGISTRATION: Please contact Sharon Willms 970-292-8490<br />\nsharon.willms@sandler.com&nbsp\;<br />\nLOCATION: Sandler Training&nbsp\;<br />\nLocated in the Chase Bank building<br />\n200 East 7th Street\, Suite 200\, Loveland</span></span></span>
LOCATION:Sandler Training (located in the Chase Bank building) 200 E. 7th Street\, Suite 200 Loveland
UID:e.3083.7128
SEQUENCE:3
DTSTAMP:20260426T024438Z
URL:https://members.longmontchamber.org/events/details/member-event-business-workshop-why-salespeople-fail-and-what-to-do-about-it-09-27-2019-7128
END:VEVENT

END:VCALENDAR
