BEGIN:VCALENDAR
VERSION:2.0
PRODID:-//ChamberMaster//Event Calendar 2.0//EN
METHOD:PUBLISH
X-PUBLISHED-TTL:P3D
REFRESH-INTERVAL:P3D
CALSCALE:GREGORIAN
BEGIN:VEVENT
DTSTART:20190914T170000Z
DTEND:20190915T020000Z
X-MICROSOFT-CDO-ALLDAYEVENT:FALSE
SUMMARY:Member Event: Celebrate Many More Tomorrows: Festival of Mental Wellness
DESCRIPTION:Celebrating Many More Tomorrows: Festival of Mental Wellness is a big community event at the Longmont Museum featuring hourly talks from mental health experts\, musicians\, athletes\, and artists as well as opportunities to put some of the skills into action. There will be a Mental Wellness Toolbox Scavenger Hunt where participants of all ages will walk away with tools they can use and prizes!
X-ALT-DESC;FMTTYPE=text/html:<span style="font-size:12.0pt"><span style="font-size:12px"><u>Celebrating Many More Tomorrows: Festival of Mental Wellness</u> is a big community event at the Longmont Museum featuring hourly talks from mental health experts\, musicians\, athletes\, and artists as well as opportunities to put some of the skills into action. There will be a Mental Wellness Toolbox Scavenger Hunt where participants of all ages will walk away with tools they can use and prizes!</span></span><br />\n<br />\n&nbsp\;
LOCATION:Longmont Museum 400 Quail Rd Longmont\, CO 80501
UID:e.3083.7137
SEQUENCE:3
DTSTAMP:20260426T024448Z
URL:https://members.longmontchamber.org/events/details/member-event-celebrate-many-more-tomorrows-festival-of-mental-wellness-7137
END:VEVENT

END:VCALENDAR
