BEGIN:VCALENDAR
VERSION:2.0
PRODID:-//ChamberMaster//Event Calendar 2.0//EN
METHOD:PUBLISH
X-PUBLISHED-TTL:P3D
REFRESH-INTERVAL:P3D
CALSCALE:GREGORIAN
BEGIN:VEVENT
DTSTART:20191213T150000Z
DTEND:20191213T163000Z
X-MICROSOFT-CDO-ALLDAYEVENT:FALSE
SUMMARY:Member Event: Coffee Chat @ CTRC
DESCRIPTION:The Colorado Therapeutic Riding Center (CTRC) of Longmont\, turns 40 next year! CTRC invites you for coffee and pastries to meet our executive director\, board\, and volunteers\,  take a tour and learn how horses changes the lives of people with disabilities. CTRC\, Colorado's oldest therapeutic riding center\,  serves people ages 3-103+ with both physical and mental disabilities including but not limited to Autism\, Cerebral Palsy\, cognitive disabilities\, PTSD\, depression and anxiety\, amputees\, and vision and hearing impaired individuals through equine assisted activities and therapies. See how you can get involved! We serve over 500 participants a year\, across 9 counties through five program areas with 28+ horses\, 15 staff and  a 1\,000 volunteer workforce annually! CTRC would not be here today\, if it were not to the dedicated\, visionary\, caring and empathetic volunteers and supporters for the past 40 years! We want to meet you too!
X-ALT-DESC;FMTTYPE=text/html:<div style="margin-left: 40px\;">The Colorado Therapeutic Riding Center (CTRC) of Longmont\, turns 40 next year! CTRC invites you for coffee and pastries to meet our executive director\, board\, and volunteers\,&nbsp\; take a tour and learn how horses changes the lives of people with disabilities. CTRC\, Colorado&#39\;s oldest therapeutic riding center\,&nbsp\;&nbsp\;serves people ages 3-103+ with both physical and mental disabilities including but not limited to Autism\, Cerebral Palsy\, cognitive disabilities\, PTSD\, depression and anxiety\, amputees\, and vision and hearing impaired individuals through equine assisted activities and therapies. See how you can get involved! We serve over 500 participants a year\, across 9 counties through five program areas with 28+ horses\, 15 staff and&nbsp\; a 1\,000 volunteer workforce annually! CTRC would not be here today\, if it were not to the dedicated\, visionary\, caring and empathetic volunteers and supporters for the past 40 years! We want to meet you too!&nbsp\;</div>\n
LOCATION:11968 Mineral Road Longmont\, CO 80504
UID:e.3083.7352
SEQUENCE:3
DTSTAMP:20260425T231830Z
URL:https://members.longmontchamber.org/events/details/member-event-coffee-chat-ctrc-12-13-2019-7352
END:VEVENT

END:VCALENDAR
