BEGIN:VCALENDAR
VERSION:2.0
PRODID:-//ChamberMaster//Event Calendar 2.0//EN
METHOD:PUBLISH
X-PUBLISHED-TTL:P3D
REFRESH-INTERVAL:P3D
CALSCALE:GREGORIAN
BEGIN:VEVENT
DTSTART:20190908T000000Z
DTEND:20190908T040000Z
X-MICROSOFT-CDO-ALLDAYEVENT:FALSE
SUMMARY:Member Event:: Colorado Horse Rescue Mane Event
DESCRIPTION:Join us for a benefit that will impact the future growth of Colorado Horse Rescue. Enjoy a night featuring local food\, an open bar\, music\, dancing\, and a silent auction. Meet some of our special horses and celebrate together as we launch the new vision for CHR!
X-ALT-DESC;FMTTYPE=text/html:<span style="color:rgba(0\, 0\, 0\, 0.9)\; font-family:-apple-system\,system-ui\,blinkmacsystemfont\,segoe ui\,roboto\,helvetica neue\,fira sans\,ubuntu\,oxygen\,oxygen sans\,cantarell\,droid sans\,apple color emoji\,segoe ui emoji\,segoe ui emoji\,segoe ui symbol\,lucida grande\,helvetica\,arial\,sans-serif\; font-size:14px">Join us for a benefit that will impact the future growth of Colorado Horse Rescue. Enjoy a night featuring local food\, an open bar\, music\, dancing\, and a silent auction. Meet some of our special horses and celebrate together as we launch the new vision for CHR!&nbsp\;</span>
LOCATION:Boulder JCC\, 6007 Oreg Ave\, Boulder\, CO 80303
UID:e.3083.7084
SEQUENCE:3
DTSTAMP:20260426T024356Z
URL:https://members.longmontchamber.org/events/details/member-event-colorado-horse-rescue-mane-event-7084
END:VEVENT

END:VCALENDAR
