BEGIN:VCALENDAR
VERSION:2.0
PRODID:-//ChamberMaster//Event Calendar 2.0//EN
METHOD:PUBLISH
X-PUBLISHED-TTL:P3D
REFRESH-INTERVAL:P3D
CALSCALE:GREGORIAN
BEGIN:VEVENT
DTSTART:20190914T233000Z
DTEND:20190915T023000Z
X-MICROSOFT-CDO-ALLDAYEVENT:FALSE
SUMMARY:Member Event:: Farm to Fork Dinner
DESCRIPTION:Chefs throughout our community will join efforts to create a locally-sourced meal to honor Hunger Action Month. Each chef will cook up dishes with key ingredients gleaned from local farms. This event will bring awareness to hunger in our community   and to Community Food Share's sustainability initiatives as they relate to hunger relief.\n\nTickets include dinner\, signature cocktails\, live music\, and a live and silent auction. Buy yours today!
X-ALT-DESC;FMTTYPE=text/html:<p>Chefs throughout our community will join efforts to create a locally-sourced meal to honor&nbsp\;<a href="https://communityfoodshare.org/donate/hunger-action-month/" rel="noopener noreferrer" style="color: rgb(34\, 125\, 127)\; box-sizing: border-box\; text-decoration-line: none\; transition-property: color\, background-color\, border-color\; transition-duration: 0.2s\; transition-timing-function: linear\;" target="_blank">Hunger Action Month</a>. Each chef will cook up dishes with key ingredients gleaned from local farms. This event will bring awareness to hunger in our community &mdash\; and to Community Food Share&rsquo\;s sustainability initiatives as they relate to hunger relief.</p>\n\n<p>Tickets include dinner\, signature cocktails\, live music\, and a live and silent auction.&nbsp\;<a href="http://cfsinc.convio.net/site/Donation2?df_id=1720&amp\;mfc_pref=T&amp\;1720.donation=form1" rel="noopener noreferrer" style="color: rgb(34\, 125\, 127)\; box-sizing: border-box\; text-decoration-line: none\; transition-property: color\, background-color\, border-color\; transition-duration: 0.2s\; transition-timing-function: linear\;" target="_blank">Buy yours</a>&nbsp\;today!</p>\n
LOCATION:Whimsy Farm 7929 Valmont Road Boulder\, CO
UID:e.3083.7085
SEQUENCE:3
DTSTAMP:20260426T023923Z
URL:https://members.longmontchamber.org/events/details/member-event-farm-to-fork-dinner-7085
END:VEVENT

END:VCALENDAR
