BEGIN:VCALENDAR
VERSION:2.0
PRODID:-//ChamberMaster//Event Calendar 2.0//EN
METHOD:PUBLISH
X-PUBLISHED-TTL:P3D
REFRESH-INTERVAL:P3D
CALSCALE:GREGORIAN
BEGIN:VEVENT
DTSTART:20191206T150000Z
DTEND:20191206T170000Z
X-MICROSOFT-CDO-ALLDAYEVENT:FALSE
SUMMARY:Member Event: Finish Strong in 2019 Workshop
DESCRIPTION:FINISH STRONG IN 2019\n\nThe Top Prospecting Behaviors That Make It Happen\n\n \nAs the year draws to a close\, are you:\n\n\n	Worried that you might not meet your sales quotas?\n	Worn out from tracking down elusive prospects?\n	At a loss for ideas to generate quick revenue?\n	Scared that you'll repeat the same cycle again...and again...?\n\nIn this workshop\, you'll learn how to:\n\n\n	STOP chasing prospects that won't make up their minds.\n	Effectively deal with stalls and objections.\n	Re-energize yourself for follow-up that results in a clear decision.\n	Find the motivation to follow through and finish strong.
X-ALT-DESC;FMTTYPE=text/html:<h2 style="text-align:center"><span style="color:#333333"><span style="font-family:arial\,sans-serif"><span style="font-size:18.0pt"><strong>FINISH STRONG IN 2019<br />\nThe Top Prospecting Behaviors That Make It Happen</strong></span></span></span><br />\n&nbsp\;</h2>\n<span style="color:#333333"><span style="font-family:arial\,sans-serif"><span style="font-size:18.0pt">As the year draws to a close\, are you:</span></span></span>\n\n<ol>\n	<li><span style="font-family:arial\,sans-serif"><span style="font-size:10.0pt">Worried that you might not meet your sales quotas?</span></span></li>\n	<li><span style="font-family:arial\,sans-serif"><span style="font-size:10.0pt">Worn out from tracking down elusive prospects?</span></span></li>\n	<li><span style="font-family:arial\,sans-serif"><span style="font-size:10.0pt">At a loss for ideas to generate quick revenue?</span></span></li>\n	<li><span style="font-family:arial\,sans-serif"><span style="font-size:10.0pt">Scared that you&#39\;ll repeat the same cycle again...and again...?</span></span></li>\n</ol>\n<span style="color:#333333"><span style="font-family:arial\,sans-serif"><span style="font-size:18.0pt">In this workshop\, you&#39\;ll learn how to:</span></span></span>\n\n<ol>\n	<li><span style="font-family:arial\,sans-serif"><span style="font-size:10.0pt">STOP chasing prospects that won&#39\;t make up their minds.</span></span></li>\n	<li><span style="font-family:arial\,sans-serif"><span style="font-size:10.0pt">Effectively deal with stalls and objections.</span></span></li>\n	<li><span style="font-family:arial\,sans-serif"><span style="font-size:10.0pt">Re-energize yourself for follow-up that results in a clear decision.</span></span></li>\n	<li><span style="font-family:arial\,sans-serif"><span style="font-size:10.0pt">Find the motivation to follow through and finish strong.</span></span></li>\n</ol>\n
LOCATION:200 East 7th Street\, STE 200 Loveland\, CO Inside the Chase Bank Bldg 2nd flr
UID:e.3083.7353
SEQUENCE:3
DTSTAMP:20260425T230554Z
URL:https://members.longmontchamber.org/events/details/member-event-finish-strong-in-2019-workshop-7353
END:VEVENT

END:VCALENDAR
