BEGIN:VCALENDAR
VERSION:2.0
PRODID:-//ChamberMaster//Event Calendar 2.0//EN
METHOD:PUBLISH
X-PUBLISHED-TTL:P3D
REFRESH-INTERVAL:P3D
CALSCALE:GREGORIAN
BEGIN:VEVENT
DTSTART:20191215T230000Z
DTEND:20191216T013000Z
X-MICROSOFT-CDO-ALLDAYEVENT:FALSE
SUMMARY:Member Event: Handel’s Messiah
DESCRIPTION:Longmont Symphony Chamber Orchestra\n\nLongmont Chorale Singers   Scott Hamlin\, artistic director\n\nElliot Moore\, conductor\n\nEkaterina Kotcherguina\, soprano\n\nClaire McCahan\, mezzo-soprano\n\nCharles Moore\, tenor\n\nJoshua South\, bass
X-ALT-DESC;FMTTYPE=text/html:Longmont Symphony Chamber Orchestra<br />\nLongmont Chorale Singers &ndash\; Scott Hamlin\, artistic director<br />\nElliot Moore\, conductor<br />\nEkaterina Kotcherguina\, soprano<br />\nClaire McCahan\, mezzo-soprano<br />\nCharles Moore\, tenor<br />\nJoshua South\, bass
LOCATION:Westview Presbyterian Church 1500 Hover St\, Longmont\, CO 80501
UID:e.3083.7158
SEQUENCE:3
DTSTAMP:20260425T230555Z
URL:https://members.longmontchamber.org/events/details/member-event-handel-s-messiah-7158
END:VEVENT

END:VCALENDAR
