BEGIN:VCALENDAR
VERSION:2.0
PRODID:-//ChamberMaster//Event Calendar 2.0//EN
METHOD:PUBLISH
X-PUBLISHED-TTL:P3D
REFRESH-INTERVAL:P3D
CALSCALE:GREGORIAN
BEGIN:VEVENT
DTSTART:20200405T013000Z
DTEND:20200405T033000Z
X-MICROSOFT-CDO-ALLDAYEVENT:FALSE
SUMMARY:Member Event: Longmont Symphony: A Fanfare for All
DESCRIPTION:Elliot Moore\, conductor\n\n\n\nGWYNETH WALKER Open the Door\n\nJENNIFER HIGDON Percussion Concerto\n\nCameron Leach\, percussion\n\nCOPLAND Symphony No. 3\n\n\n\nThis program features two works by American women Gwyneth Walker's Open the Door overture and Jennifer Higdon's Percussion Concerto\, winner of the 2010 Grammy Award for Best Classical Contemporary Composition. Copland's Third Symphony\, written at the end of the Second World War\, uses his famous "Fanfare for the Common Man" theme to express the euphoric spirit of the country at that time.
X-ALT-DESC;FMTTYPE=text/html:Elliot Moore\, conductor<br />\n<br />\nGWYNETH WALKER Open the Door<br />\nJENNIFER HIGDON Percussion Concerto<br />\nCameron Leach\, percussion<br />\nCOPLAND Symphony No. 3<br />\n<br />\nThis program features two works by American women&mdash\;Gwyneth&nbsp\;Walker&rsquo\;s Open the Door overture and Jennifer Higdon&rsquo\;s Percussion&nbsp\;Concerto\, winner of the 2010 Grammy Award for Best Classical&nbsp\;Contemporary Composition. Copland&rsquo\;s Third Symphony\, written at&nbsp\;the end of the Second World War\, uses his famous &ldquo\;Fanfare for&nbsp\;the Common Man&rdquo\; theme to express the euphoric spirit of the&nbsp\;country at that time.
LOCATION:Vance Brand Civic Auditorium 600 E Mountain View Ave\, Longmont\, CO 80504
UID:e.3083.7342
SEQUENCE:3
DTSTAMP:20260425T152917Z
URL:https://members.longmontchamber.org/events/details/member-event-longmont-symphony-a-fanfare-for-all-7342
END:VEVENT

END:VCALENDAR
