BEGIN:VCALENDAR
VERSION:2.0
PRODID:-//ChamberMaster//Event Calendar 2.0//EN
METHOD:PUBLISH
X-PUBLISHED-TTL:P3D
REFRESH-INTERVAL:P3D
CALSCALE:GREGORIAN
BEGIN:VEVENT
DTSTART:20200301T020000Z
DTEND:20200301T040000Z
X-MICROSOFT-CDO-ALLDAYEVENT:FALSE
SUMMARY:Member Event: Longmont Symphony Beethoven Cycle: Schubert & Beethoven
DESCRIPTION:Longmont Symphony Chamber Orchestra\n\nElliot Moore\, conductor\n\n\n\nSCHUBERT Symphony No. 5\n\nBEETHOVEN Symphony No. 4\n\n\n\nTicket includes a complimentary glass of wine and a post-concert reception
X-ALT-DESC;FMTTYPE=text/html:Longmont Symphony Chamber Orchestra<br />\nElliot Moore\, conductor<br />\n<br />\nSCHUBERT Symphony No. 5<br />\nBEETHOVEN Symphony No. 4<br />\n<br />\nTicket includes a complimentary glass of wine and a post-concert&nbsp\;reception
LOCATION:Stewart Auditorium at the Longmont Museum 400 Quail Rd\, Longmont\, CO 80501
UID:e.3083.7343
SEQUENCE:3
DTSTAMP:20260425T182626Z
URL:https://members.longmontchamber.org/events/details/member-event-longmont-symphony-beethoven-cycle-schubert-beethoven-7343
END:VEVENT

END:VCALENDAR
