BEGIN:VCALENDAR
VERSION:2.0
PRODID:-//ChamberMaster//Event Calendar 2.0//EN
METHOD:PUBLISH
X-PUBLISHED-TTL:P3D
REFRESH-INTERVAL:P3D
CALSCALE:GREGORIAN
BEGIN:VEVENT
DTSTART:20191107T010000Z
DTEND:20191107T033000Z
X-MICROSOFT-CDO-ALLDAYEVENT:FALSE
SUMMARY:Member Event: Longmont Symphony House Concert with Cellist Adrian Daurov
DESCRIPTION:Enjoy spectacular music\, wine and hors d'oeuvres in a stunning private home setting. Meet the artist and mingle with other music lovers! A native of St. Petersburg\, Russia and now living in New York City\, cellist Adrian Daurov is one of the most dazzling artists of his generation. After studying at the St. Petersburg Conservatory\, Daurov was awarded the Jerome L. Greene Scholarship for advanced studies at The Juilliard School with the renowned cello pedagogue David Soyer of the Guarneri Quartet. At Juilliard\, he completed his Bachelor's and Master's degrees\, graduating in 2009. Proceeds benefit the Longmont Symphony Orchestra.
X-ALT-DESC;FMTTYPE=text/html:Enjoy spectacular music\, wine and hors d&rsquo\;oeuvres in a stunning private&nbsp\;home setting. Meet the artist and mingle with other music lovers! A&nbsp\;native of St. Petersburg\, Russia and now living in New York City\,&nbsp\;cellist Adrian Daurov is one of the most dazzling artists of his&nbsp\;generation. After studying at the St. Petersburg Conservatory\, Daurov&nbsp\;was awarded the Jerome L. Greene Scholarship for advanced studies at&nbsp\;The Juilliard School with the renowned cello pedagogue David Soyer of&nbsp\;the Guarneri Quartet. At Juilliard\, he completed his Bachelor&rsquo\;s and&nbsp\;Master&rsquo\;s degrees\, graduating in 2009. Proceeds benefit the Longmont&nbsp\;Symphony Orchestra.
LOCATION:Private home in East Boulder
UID:e.3083.7153
SEQUENCE:3
DTSTAMP:20260425T233321Z
URL:https://members.longmontchamber.org/events/details/member-event-longmont-symphony-house-concert-with-cellist-adrian-daurov-7153
END:VEVENT

END:VCALENDAR
