BEGIN:VCALENDAR
VERSION:2.0
PRODID:-//ChamberMaster//Event Calendar 2.0//EN
METHOD:PUBLISH
X-PUBLISHED-TTL:P3D
REFRESH-INTERVAL:P3D
CALSCALE:GREGORIAN
BEGIN:VEVENT
DTSTART:20191110T023000Z
DTEND:20191110T043000Z
X-MICROSOFT-CDO-ALLDAYEVENT:FALSE
SUMMARY:Member Event: Longmont Symphony: Beethoven Cycle
DESCRIPTION:Elliot Moore\, conductor\n\n\n\nENESCO  Prelude in Unison\n\nSHOSTAKOVICH Cello Concerto No. 1\n\nAdrian Daurov\, cello\n\nBEETHOVEN Symphony No. 3\, "Eroica"\n\n\n\nJoin the Longmont Symphony as we continue our Beethoven Symphony Cycle this time in Vance Brand Civic Auditorium to witness the grandeur that Beethoven infuses into his "Eroica" (Heroic) Third Symphony. Russian cellist\, Adrian Daurov\, joins the LSO in Shostakovich's virtuosic Cello Concerto No. 1.
X-ALT-DESC;FMTTYPE=text/html:Elliot Moore\, conductor<br />\n<br />\nENESCO&nbsp\; Prelude in Unison<br />\nSHOSTAKOVICH Cello Concerto No. 1<br />\nAdrian Daurov\, cello<br />\nBEETHOVEN Symphony No. 3\, &ldquo\;Eroica&rdquo\;<br />\n<br />\nJoin the Longmont Symphony as we continue our Beethoven Symphony&nbsp\;Cycle&mdash\;this time in Vance Brand Civic Auditorium&mdash\;to witness the&nbsp\;grandeur that Beethoven infuses into his &ldquo\;Eroica&rdquo\; (Heroic) Third&nbsp\;Symphony. Russian cellist\, Adrian Daurov\, joins the LSO in&nbsp\;Shostakovich&rsquo\;s virtuosic Cello Concerto No. 1.
LOCATION:Vance Brand Civic Auditorium 600 E Mountain View Ave\, Longmont\, CO 80504
UID:e.3083.7154
SEQUENCE:3
DTSTAMP:20260425T232843Z
URL:https://members.longmontchamber.org/events/details/member-event-longmont-symphony-opening-night-beethoven-cycle-7154
END:VEVENT

END:VCALENDAR
