BEGIN:VCALENDAR
VERSION:2.0
PRODID:-//ChamberMaster//Event Calendar 2.0//EN
METHOD:PUBLISH
X-PUBLISHED-TTL:P3D
REFRESH-INTERVAL:P3D
CALSCALE:GREGORIAN
BEGIN:VEVENT
DTSTART:20200510T013000Z
DTEND:20200510T033000Z
X-MICROSOFT-CDO-ALLDAYEVENT:FALSE
SUMMARY:Member Event:: Longmont Symphony Pops Concert: LSO at the Movies!
DESCRIPTION:Elliot Moore\, conductor\n\n\n\nThis family-friendly program features popular film music that reflects our life's journey of adventure\, love\, nostalgia\, and perseverance\, including: Chariots of Fire\, Cinema Paradiso\, Batman\, Titanic\, Lord of the Rings\, and more.
X-ALT-DESC;FMTTYPE=text/html:<p>Elliot Moore\, conductor<br />\n<br />\nThis family-friendly program features popular film music that&nbsp\;reflects our life&rsquo\;s journey of adventure\, love\, nostalgia\, and&nbsp\;perseverance\, including: Chariots of Fire\, Cinema Paradiso\,&nbsp\;Batman\, Titanic\, Lord of the Rings\, and more.</p>\n\n<p>&nbsp\;</p>\n
LOCATION:Vance Brand Civic Auditorium 600 E Mountain View Ave Longmont\, Colorado 80504
UID:e.3083.7344
SEQUENCE:3
DTSTAMP:20260425T135302Z
URL:https://members.longmontchamber.org/events/details/member-event-longmont-symphony-pops-concert-lso-at-the-movies-7344
END:VEVENT

END:VCALENDAR
