BEGIN:VCALENDAR
VERSION:2.0
PRODID:-//ChamberMaster//Event Calendar 2.0//EN
METHOD:PUBLISH
X-PUBLISHED-TTL:P3D
REFRESH-INTERVAL:P3D
CALSCALE:GREGORIAN
BEGIN:VEVENT
DTSTART:20200216T023000Z
DTEND:20200216T043000Z
X-MICROSOFT-CDO-ALLDAYEVENT:FALSE
SUMMARY:Member Event: Longmont Symphony: The Force of Destiny
DESCRIPTION:Elliot Moore\, conductor\n\n\n\nVERDI  La forza del destino\n\nCORIGLIANO  The Red Violin\n\nAndrew Sords\, violin\n\nPAGANINI  La Campanella\n\nRESPIGHI  The Pines of Rome\n\nSide-by-side with the Longmont Youth Symphony\n\n\n\nThe feeling of destiny is one that accompanies us at different times in our lives. For this concert\, destiny takes the reins   from soulmate connections to the "lives" of musical instruments in The Red Violin. Closing with Respighi's monumental musical depiction of life in Rome\, this performance features violinist Andrew Sords and the Longmont Youth Symphony.
X-ALT-DESC;FMTTYPE=text/html:Elliot Moore\, conductor<br />\n<br />\nVERDI&nbsp\; La forza del destino<br />\nCORIGLIANO&nbsp\; The Red Violin<br />\nAndrew Sords\, violin<br />\nPAGANINI&nbsp\; La Campanella<br />\nRESPIGHI&nbsp\; The Pines of Rome<br />\nSide-by-side with the Longmont Youth Symphony<br />\n<br />\nThe feeling of destiny is one that accompanies us at different&nbsp\;times in our lives. For this concert\, destiny takes the reins &mdash\;&nbsp\;from soulmate connections to the &ldquo\;lives&rdquo\; of musical instruments&nbsp\;in The Red Violin. Closing with Respighi&rsquo\;s monumental musical&nbsp\;depiction of life in Rome\, this performance features violinist&nbsp\;Andrew Sords and the Longmont Youth Symphony.
LOCATION:Vance Brand Civic Auditorium 600 E Mountain View Ave\, Longmont\, CO 80504
UID:e.3083.7341
SEQUENCE:3
DTSTAMP:20260425T182644Z
URL:https://members.longmontchamber.org/events/details/member-event-longmont-symphony-the-force-of-destiny-7341
END:VEVENT

END:VCALENDAR
