BEGIN:VCALENDAR
VERSION:2.0
PRODID:-//ChamberMaster//Event Calendar 2.0//EN
METHOD:PUBLISH
X-PUBLISHED-TTL:P3D
REFRESH-INTERVAL:P3D
CALSCALE:GREGORIAN
BEGIN:VEVENT
DTSTART:20191205T000000Z
DTEND:20191205T040000Z
X-MICROSOFT-CDO-ALLDAYEVENT:FALSE
SUMMARY:Member Event: Microspa's Annual Holiday Open House
DESCRIPTION:Join us to Celebrate the Season!\n\nDecember 4\, 2019\, 5-9 pm\n\n\n\nFeaturing Woman-owned Longmont Businesses\n\n\n\nGet insights for the coming year with\n\nIntuitive Psychic Jane Stoddard\n\n\n\nPermanent Makeup Consultations with\n\nMichelle Warren owner Goddess Ink\n\n\n\nMed Spa consultations and B-12 Shots for holiday energy\n\nJessica Tingwald Peaceful Poppy Med Spa\n\n\n\nHand-Crafted Jewelry\n\nASO Arts Jewelry\n\n\n\nFood! Wine! Prizes! Fun!\n\n\n\n20% off Microspa Gift Certificates & Products\n\n25% off when paying with cash or check
X-ALT-DESC;FMTTYPE=text/html:Join us to Celebrate the Season!<br />\nDecember 4\, 2019\, 5-9 pm<br />\n<br />\nFeaturing Woman-owned Longmont Businesses<br />\n<br />\nGet insights for the coming year with<br />\nIntuitive Psychic Jane Stoddard<br />\n<br />\nPermanent Makeup Consultations with<br />\nMichelle Warren owner Goddess Ink<br />\n<br />\nMed Spa consultations and B-12 Shots for holiday energy<br />\nJessica Tingwald Peaceful Poppy Med Spa<br />\n<br />\nHand-Crafted Jewelry<br />\nASO Arts Jewelry<br />\n<br />\nFood! Wine! Prizes! Fun!<br />\n<br />\n20% off Microspa Gift Certificates &amp\; Products<br />\n25% off when paying with cash or check
LOCATION:703 3rd Ave Longmont CO 80501 "The Historic Allen House"
UID:e.3083.7328
SEQUENCE:3
DTSTAMP:20260425T232019Z
URL:https://members.longmontchamber.org/events/details/member-event-microspa-s-annual-holiday-open-house-7328
END:VEVENT

END:VCALENDAR
