BEGIN:VCALENDAR
VERSION:2.0
PRODID:-//ChamberMaster//Event Calendar 2.0//EN
METHOD:PUBLISH
X-PUBLISHED-TTL:P3D
REFRESH-INTERVAL:P3D
CALSCALE:GREGORIAN
BEGIN:VEVENT
DTSTART:20190914T180000Z
DTEND:20190914T190000Z
X-MICROSOFT-CDO-ALLDAYEVENT:FALSE
SUMMARY:Member Event: Music: A Means for Creating Total Health and Well-Being
DESCRIPTION:True health and wellness involves different aspects of being\, including the physical\, mental\, emotional\, social\, and spiritual or existential. Music can assist you in connecting to all of these dimensions of health in a personally impactful way. Experience how in this interactive presentation led by board-certified music therapist and Licensed Professional Counselor\, Faith Halverson-Ramos of SoundWell Music Therapy in Longmont\, as part of the Many More Tomorrows Festival of Mental Wellness.
X-ALT-DESC;FMTTYPE=text/html:<span style="color:rgb(0\, 0\, 0)\; font-family:helvetica\; font-size:12px">True health and wellness involves different aspects of being\, including the physical\, mental\, emotional\, social\, and spiritual or existential. Music can assist you in connecting to all of these dimensions of health in a personally impactful way. Experience how in this interactive presentation led by board-certified music therapist and Licensed Professional Counselor\, Faith Halverson-Ramos of SoundWell Music Therapy in Longmont\, as part of the Many More Tomorrows Festival of Mental Wellness.</span>
LOCATION:Longmont Museum 400 Quail Road Longmont\, Colorado 80501
UID:e.3083.7136
SEQUENCE:3
DTSTAMP:20260426T024438Z
URL:https://members.longmontchamber.org/events/details/member-event-music-a-means-for-creating-total-health-and-well-being-7136
END:VEVENT

END:VCALENDAR
