BEGIN:VCALENDAR
VERSION:2.0
PRODID:-//ChamberMaster//Event Calendar 2.0//EN
METHOD:PUBLISH
X-PUBLISHED-TTL:P3D
REFRESH-INTERVAL:P3D
CALSCALE:GREGORIAN
BEGIN:VEVENT
DTSTART:20210507T150000Z
DTEND:20210507T220000Z
X-MICROSOFT-CDO-ALLDAYEVENT:FALSE
SUMMARY:Member Event: OUR Center Food Drive @ High Country Bank
DESCRIPTION:Please bring your non perishable items to High Country Bank at 110 Main Street.  OUR Center has requested the following items that are most needed:\n\n\n\n- Canned beans (black\, kidney\, and pinto beans)\n\n- Canned vegetables\n\n- Canned fruit
X-ALT-DESC;FMTTYPE=text/html:Please bring your non perishable items to High Country Bank at 110 Main Street.&nbsp\; OUR Center has requested the following items that are most needed:<br />\n<br />\n- Canned beans (black\, kidney\, and pinto beans)<br />\n- Canned vegetables<br />\n- Canned fruit
LOCATION:High Country Bank 110 Main St Suite 102 Longmont\, CO 80501
UID:e.3083.8185
SEQUENCE:3
DTSTAMP:20260424T184652Z
URL:https://members.longmontchamber.org/events/details/member-event-our-center-food-drive-high-country-bank-8185
END:VEVENT

END:VCALENDAR
