BEGIN:VCALENDAR
VERSION:2.0
PRODID:-//ChamberMaster//Event Calendar 2.0//EN
METHOD:PUBLISH
X-PUBLISHED-TTL:P3D
REFRESH-INTERVAL:P3D
CALSCALE:GREGORIAN
BEGIN:VEVENT
DTSTART:20190823T000000Z
DTEND:20190823T010000Z
X-MICROSOFT-CDO-ALLDAYEVENT:FALSE
SUMMARY:Member Event: Retire Wiser Event
DESCRIPTION:Avoid the Retirement Planning Mistakes that could cost you thousands!\n\n\n\n- Learn ways to help keep more of what you've earned and give less to the IRS.\n\n- Discover the income sources that are designed to help you avoid running out of money in retirement.\n\n- Learn how to shield your accounts from stock market volatility (and the next crash).\n\n- Uncover the biggest Social Security claiming pitfalls that could derail your retirement. \n\n\n\nThis is a free event\, but seating is limited! Please visit the site below to reserve your spot!\n\nhttps://events.retire-wiser.com/longmont-aug-22-27/?inf_contact_key=820ad73738f575d05dcecf20db4141d1
X-ALT-DESC;FMTTYPE=text/html:<span style="color:rgb(29\, 33\, 41)\; font-family:helvetica\,arial\,sans-serif\; font-size:14px">Avoid the Retirement Planning Mistakes that could cost you thousands!</span><br />\n<br />\n<span style="color:rgb(29\, 33\, 41)\; font-family:helvetica\,arial\,sans-serif\; font-size:14px">- Learn ways to help keep more of what you&#39\;ve earned and give less to the IRS.</span><br />\n<span style="color:rgb(29\, 33\, 41)\; font-family:helvetica\,arial\,sans-serif\; font-size:14px">- Discover the income sources that are designed to help you avoid running out of money in retirement.</span><br />\n<span style="color:rgb(29\, 33\, 41)\; font-family:helvetica\,arial\,sans-serif\; font-size:14px">- Learn how to shield your accounts from stock market volatility (and the next crash).</span><br />\n<span style="color:rgb(29\, 33\, 41)\; font-family:helvetica\,arial\,sans-serif\; font-size:14px">- Uncover the biggest Social Security claiming pitfalls that could derail your retirement. </span><br />\n<br />\n<span style="color:rgb(29\, 33\, 41)\; font-family:helvetica\,arial\,sans-serif\; font-size:14px">This is a free event\, but seating is limited! Please visit the site below to reserve your spot!</span><br />\n<a href="https://events.retire-wiser.com/longmont-aug-22-27/?inf_contact_key=820ad73738f575d05dcecf20db4141d1">https://events.retire-wiser.com/longmont-aug-22-27/?inf_contact_key=820ad73738f575d05dcecf20db4141d1</a>
LOCATION:The Oliver Building 1729 Terry Street Longmont\, CO 80501
UID:e.3083.7118
SEQUENCE:3
DTSTAMP:20260426T042301Z
URL:https://members.longmontchamber.org/events/details/member-event-retire-wiser-event-08-22-2019-7118
END:VEVENT

END:VCALENDAR
