BEGIN:VCALENDAR
VERSION:2.0
PRODID:-//ChamberMaster//Event Calendar 2.0//EN
METHOD:PUBLISH
X-PUBLISHED-TTL:P3D
REFRESH-INTERVAL:P3D
CALSCALE:GREGORIAN
BEGIN:VEVENT
DTSTART:20191022T233000Z
DTEND:20191023T003000Z
X-MICROSOFT-CDO-ALLDAYEVENT:FALSE
SUMMARY:Member Event: Retire Wiser Event
DESCRIPTION:Learn ways to help keep more of what you've earned and give less to the IRS.\n\n  Discover the income sources that are designed to help you avoid running out of money in retirement.\n\n  Learn how to shield your accounts from stock market volatility (and the next crash).\n\n  Uncover the biggest Social Security claiming pitfalls that could derail your retirement.\n\n\n\nThis is a free event\, but seating is limited! Please visit the event site below to reserve your spot!\n\n\n\nhttps://events.retire-wiser.com/estes-park-october-22/
X-ALT-DESC;FMTTYPE=text/html:<span style="color:rgb(29\, 33\, 41)\; font-family:helvetica\,arial\,sans-serif\; font-size:14px">&ndash\; Learn ways to help keep more of what you&rsquo\;ve earned and give less to the IRS.</span><br />\n<span style="color:rgb(29\, 33\, 41)\; font-family:helvetica\,arial\,sans-serif\; font-size:14px">&ndash\; Discover the income sources that are designed to help you avoid running out of money in retirement.</span><br />\n<span style="color:rgb(29\, 33\, 41)\; font-family:helvetica\,arial\,sans-serif\; font-size:14px">&ndash\; Learn how to shield your accounts from stock market volatility (and the next crash).</span><br />\n<span style="color:rgb(29\, 33\, 41)\; font-family:helvetica\,arial\,sans-serif\; font-size:14px">&ndash\; Uncover the biggest Social Security claiming pitfalls that could derail your retirement.</span><br />\n<br />\n<span style="color:rgb(29\, 33\, 41)\; font-family:helvetica\,arial\,sans-serif\; font-size:14px">This is a free event\, but seating is limited! Please visit the event site below to reserve your spot!</span><br />\n<br />\n<a href="https://events.retire-wiser.com/estes-park-october-22/">https://events.retire-wiser.com/estes-park-october-22/</a>
LOCATION:Ridgeline Hotel 101 S. St. Vrain Avenue Estes Park\, CO 80517
UID:e.3083.7326
SEQUENCE:3
DTSTAMP:20260426T010959Z
URL:https://members.longmontchamber.org/events/details/member-event-retire-wiser-event-10-22-2019-7326
END:VEVENT

END:VCALENDAR
