BEGIN:VCALENDAR
VERSION:2.0
PRODID:-//ChamberMaster//Event Calendar 2.0//EN
METHOD:PUBLISH
X-PUBLISHED-TTL:P3D
REFRESH-INTERVAL:P3D
CALSCALE:GREGORIAN
BEGIN:VEVENT
DTSTART:20200221T010000Z
DTEND:20200221T020000Z
X-MICROSOFT-CDO-ALLDAYEVENT:FALSE
SUMMARY:Member Event: Retire Wiser Workshop
DESCRIPTION:Avoid the Retirement Planning Mistakes that could cost you thousands!\n\n\n\n  Learn ways to help keep more of what you've earned and give less to the IRS.\n\n  Discover the income sources that are designed to help you avoid running out of money in retirement.\n\n  Learn how to shield your accounts from stock market volatility (and the next crash).\n\n  Uncover the biggest Social Security claiming pitfalls that could derail your retirement.\n\n\n\nThis is a free event\, but seating is limited! Please visit the event site below to reserve your spot!\n\n\n\nhttps://events.retire-wiser.com/longmont-feb-20-25/?inf_contact_key=084292f22fb1943eada0d6ef244bdcdd
X-ALT-DESC;FMTTYPE=text/html:<span style="color:#1D2129"><span style="font-family:helvetica\,sans-serif"><span style="font-size:10.5pt">Avoid the Retirement Planning Mistakes that could cost you thousands!</span></span></span><br />\n<br />\n<span style="color:#1D2129"><span style="font-family:helvetica\,sans-serif"><span style="font-size:10.5pt">&ndash\; Learn ways to help keep more of what you&rsquo\;ve earned and give less to the IRS.<br />\n&ndash\; Discover the income sources that are designed to help you avoid running out of money in retirement.<br />\n&ndash\; Learn how to shield your accounts from stock market volatility (and the next crash).<br />\n&ndash\; Uncover the biggest Social Security claiming pitfalls that could derail your retirement.<br />\n<br />\nThis is a free event\, but seating is limited! Please visit the event site below to reserve your spot!</span></span></span><br />\n<br />\n<a href="https://events.retire-wiser.com/longmont-feb-20-25/?inf_contact_key=084292f22fb1943eada0d6ef244bdcdd">https://events.retire-wiser.com/longmont-feb-20-25/?inf_contact_key=084292f22fb1943eada0d6ef244bdcdd</a>
LOCATION:The Oliver Building 1729 Terry Street Longmont\, CO 80501
UID:e.3083.7404
SEQUENCE:3
DTSTAMP:20260425T182320Z
URL:https://members.longmontchamber.org/events/details/member-event-retire-wiser-workshop-7404
END:VEVENT

END:VCALENDAR
