BEGIN:VCALENDAR
VERSION:2.0
PRODID:-//ChamberMaster//Event Calendar 2.0//EN
METHOD:PUBLISH
X-PUBLISHED-TTL:P3D
REFRESH-INTERVAL:P3D
CALSCALE:GREGORIAN
BEGIN:VEVENT
DTSTART:20200201T220000Z
DTEND:20200202T000000Z
X-MICROSOFT-CDO-ALLDAYEVENT:FALSE
SUMMARY:Member Event: The Genius of Stradivari & Guarneri: Violins of Cremona
DESCRIPTION:Language of the Masters by Dr. William Sloan featuring award-winning violinist Andrew Sords   with concertmaster Paul Trapkus and pianists Judy Sloan and Susan Olenwine\n\n\n\nThe Longmont Symphony is proud to partner with the Longmont Museum to offer this extraordinary opportunity to learn about and experience two rare and priceless violins a Stradivarius and Guarneri del Gesu owned and cared for by Dr. William Sloan and Professor Judy Sloan.\n\n\n\nBeginning with a lively presentation by Dr. Sloan on Italian violin makers Antonio Stradivari and Giuseppe Guarneri del Gesu\, the afternoon will include an intimate recital by award-winning violinist Andrew Sords performing selected works on both instruments and accompanied by pianist Susan Olenwine. Afterwards\, the violins will be on display in the Swan Atrium\, where Dr. Sloan and musicians will be available to answer questions.
X-ALT-DESC;FMTTYPE=text/html:<br />\nLanguage of the Masters by Dr. William Sloan featuring award-winning violinist Andrew Sords &ndash\; with concertmaster Paul Trapkus and pianists Judy Sloan and Susan Olenwine<br />\n<br />\nThe Longmont Symphony is proud to partner with the Longmont Museum to offer this extraordinary opportunity to learn about and experience two rare and priceless violins&mdash\;a Stradivarius and Guarneri del Gesu owned and cared for by Dr. William Sloan and Professor Judy Sloan.<br />\n<br />\nBeginning with a lively presentation by Dr. Sloan on Italian violin makers Antonio Stradivari and Giuseppe Guarneri del Gesu\, the afternoon will include an intimate recital by award-winning violinist Andrew Sords performing selected works on both instruments and accompanied by pianist Susan Olenwine. Afterwards\, the violins will be on display in the Swan Atrium\, where Dr. Sloan and musicians will be available to answer questions.
LOCATION:Stewart Auditorium at the Longmont Museum 400 Quail Road\, Longmont\, CO 80501
UID:e.3083.7364
SEQUENCE:3
DTSTAMP:20260425T182841Z
URL:https://members.longmontchamber.org/events/details/member-event-the-genius-of-stradivari-guarneri-violins-of-cremona-7364
END:VEVENT

END:VCALENDAR
