BEGIN:VCALENDAR
VERSION:2.0
PRODID:-//ChamberMaster//Event Calendar 2.0//EN
METHOD:PUBLISH
X-PUBLISHED-TTL:P3D
REFRESH-INTERVAL:P3D
CALSCALE:GREGORIAN
BEGIN:VEVENT
DTSTART:20191207T200000Z
DTEND:20191207T210000Z
X-MICROSOFT-CDO-ALLDAYEVENT:FALSE
SUMMARY:Member Event: The Gentle Nutcracker
DESCRIPTION:The Longmont Symphony Orchestra and the Boulder Ballet present a sensory-friendly abridged version of Tchaikovsky's beloved Nutcracker Ballet for individuals with special needs and their families.
X-ALT-DESC;FMTTYPE=text/html:The Longmont Symphony Orchestra and the Boulder Ballet present a sensory-friendly abridged version of Tchaikovsky&rsquo\;s beloved Nutcracker Ballet for individuals with special needs and their families.
LOCATION:Vance Brand Civic Auditorium 600 E Mountain View Ave\, Longmont\, CO 80504
UID:e.3083.7155
SEQUENCE:3
DTSTAMP:20260425T213915Z
URL:https://members.longmontchamber.org/events/details/member-event-the-gentle-nutcracker-12-07-2019-7155
END:VEVENT

END:VCALENDAR
