BEGIN:VCALENDAR
VERSION:2.0
PRODID:-//ChamberMaster//Event Calendar 2.0//EN
METHOD:PUBLISH
X-PUBLISHED-TTL:P3D
REFRESH-INTERVAL:P3D
CALSCALE:GREGORIAN
BEGIN:VEVENT
DTSTART:20191208T210000Z
DTEND:20191208T230000Z
X-MICROSOFT-CDO-ALLDAYEVENT:FALSE
SUMMARY:Member Event: The Nutcracker Ballet
DESCRIPTION:This December\, the curtain rises for America's favorite ballet\, brought to life by the Boulder Ballet and the Longmont Symphony. Make your plans now for this thrilling and heart-warming spectacle\, all performed to Tchaikovsky's masterful score. A holiday tradition with exciting choreography and a full\, live orchestra!
X-ALT-DESC;FMTTYPE=text/html:This December\, the curtain rises for America&rsquo\;s favorite ballet\, brought to life by the Boulder Ballet and the Longmont Symphony. Make your plans now for this thrilling and heart-warming spectacle\, all performed to Tchaikovsky&rsquo\;s masterful score. A holiday tradition with exciting choreography and a full\, live orchestra!
LOCATION:Vance Brand Civic Auditorium 600 E Mountain View Ave\, Longmont\, CO 80504
UID:e.3083.7157
SEQUENCE:3
DTSTAMP:20260425T213938Z
URL:https://members.longmontchamber.org/events/details/member-event-the-nutcracker-ballet-12-08-2019-7157
END:VEVENT

END:VCALENDAR
