BEGIN:VCALENDAR
VERSION:2.0
PRODID:-//ChamberMaster//Event Calendar 2.0//EN
METHOD:PUBLISH
X-PUBLISHED-TTL:P3D
REFRESH-INTERVAL:P3D
CALSCALE:GREGORIAN
BEGIN:VEVENT
DTSTART:20191012T140000Z
DTEND:20191012T150000Z
X-MICROSOFT-CDO-ALLDAYEVENT:FALSE
SUMMARY:Member Event: Transition to Medicare
DESCRIPTION:The basics of Medicare\, chiefly designed for those who are going to be eligible for Medicare in the next year or so.  I will be covering all of the individual parts of Medicare including prescription drug coverage.  I will be discussing\, costs and integration with private insurance.  There will be plenty of examples and time for questions.
X-ALT-DESC;FMTTYPE=text/html:<span style="color:#333333"><span style="font-family:arial\,sans-serif"><span style="font-size:10pt">The basics of Medicare\, chiefly designed for those who are going to be eligible for Medicare in the next year or so. &nbsp\;I will be covering all of the individual parts of Medicare including prescription drug coverage. &nbsp\;I will be discussing\, costs and integration with private insurance. &nbsp\;There will be plenty of examples and time for questions.</span></span></span>
LOCATION:910 Longs Peak Ave.\, Longmont\, CO 80501
UID:e.3083.7141
SEQUENCE:3
DTSTAMP:20260426T011210Z
URL:https://members.longmontchamber.org/events/details/member-event-transition-to-medicare-10-12-2019-7141
END:VEVENT

END:VCALENDAR
