BEGIN:VCALENDAR
VERSION:2.0
PRODID:-//ChamberMaster//Event Calendar 2.0//EN
METHOD:PUBLISH
X-PUBLISHED-TTL:P3D
REFRESH-INTERVAL:P3D
CALSCALE:GREGORIAN
BEGIN:VEVENT
DTSTART:20190802T003000Z
DTEND:20190802T023000Z
X-MICROSOFT-CDO-ALLDAYEVENT:FALSE
SUMMARY:Member Event:: Trivia Night with Jeopardy Jen!
DESCRIPTION:Join us on the 1st and 3rd Thursday of the month for trivia night with Jeopardy Jen! There will be five rounds of trivia including a visual round. Come and test your knowledge for the chance to win free pints\, swag\, and gift cards!\n\n\n\nAbout Jen:\n\nCalifornia transplant gone native\, 3rd grade teacher at Columbine\, Jen has a BA in French\, a teaching certificate\, and a Masters in Bilingual Ed. Jeopardy! Teachers Tournament\, 2015 - winner\; Tournament of Champions\, 2015 - loser\; All Star Games\, 2019 - somewhere in the middle ?? Jen loves cooking\, reading\, traveling & walking. She loves with her cat\, Cat.
X-ALT-DESC;FMTTYPE=text/html:<span style="color:rgb(29\, 33\, 41)\; font-family:system-ui\,-apple-system\,system-ui\,.sfnstext-regular\,sans-serif\; font-size:14px">Join us on the 1st and 3rd Thursday of the month for trivia night with Jeopardy Jen! There will be five rounds of trivia including a visual round. Come and test your knowledge for the chance to win free pints\, swag\, and gift cards!</span><br />\n<br />\n<span style="color:rgb(29\, 33\, 41)\; font-family:system-ui\,-apple-system\,system-ui\,.sfnstext-regular\,sans-serif\; font-size:14px">About Jen:</span><br />\n<span style="color:rgb(29\, 33\, 41)\; font-family:system-ui\,-apple-system\,system-ui\,.sfnstext-regular\,sans-serif\; font-size:14px">California transplant gone native\, 3rd grade teacher at Columbine\, Jen has a BA in French\, a teaching certificate\, and a Masters in Bilingual Ed. Jeopardy! Teachers Tournament\, 2015 - winner\; Tournament of Champions\, 2015 - loser\; All Star Games\, 2019 - somewhere in the middle ?? Jen loves cooking\, reading\, traveling &amp\; walking. She loves with her cat\, Cat.</span>
LOCATION:Brewmented 900 S. Hover Street Longmont\, CO 80501
UID:e.3083.7098
SEQUENCE:3
DTSTAMP:20260426T042338Z
URL:https://members.longmontchamber.org/events/details/member-event-trivia-night-with-jeopardy-jen-7098
END:VEVENT

END:VCALENDAR
