BEGIN:VCALENDAR
VERSION:2.0
PRODID:-//ChamberMaster//Event Calendar 2.0//EN
METHOD:PUBLISH
X-PUBLISHED-TTL:P3D
REFRESH-INTERVAL:P3D
CALSCALE:GREGORIAN
BEGIN:VEVENT
DTSTART:20190921T000000Z
DTEND:20190921T020000Z
X-MICROSOFT-CDO-ALLDAYEVENT:FALSE
SUMMARY:Member Event:: Wine/Beer Glass Painting Class at Brewmented
DESCRIPTION:Come join us for this fun and creative Wine or Beer Glass Painting Class held at Brewmented\, 900 S. Hover\, Unit C\, Longmont\, CO 80501\n\nThis month's design: Cutie Pie Cactus\n\n9/20 @ 6pm\n\n\n\nIn this 1.5 hour class\, you will hand paint a design on a wine or beer glass guided by an instructor from Le Painted Grape. All painting supplies and wine/beer glass included. Wine and food available for extra purchase from venue. No outside food or drink. We teach you STEP BY STEP so no exp. necessary. Sign up with your friends!
X-ALT-DESC;FMTTYPE=text/html:<span style="color:rgb(29\, 33\, 41)\; font-family:system-ui\,-apple-system\,system-ui\,.sfnstext-regular\,sans-serif\; font-size:14px">Come join us for this fun and creative <a href="https://www.facebook.com/events/329639537964806/">Wine or Beer Glass Painting Class </a>held at Brewmented\, 900 S. Hover\, Unit C\, Longmont\, CO 80501</span><br />\n<span style="color:rgb(29\, 33\, 41)\; font-family:system-ui\,-apple-system\,system-ui\,.sfnstext-regular\,sans-serif\; font-size:14px">This month&#39\;s design: Cutie Pie Cactus</span><br />\n<span style="color:rgb(29\, 33\, 41)\; font-family:system-ui\,-apple-system\,system-ui\,.sfnstext-regular\,sans-serif\; font-size:14px">9/20 @ 6pm</span><br />\n<br />\n<span style="color:rgb(29\, 33\, 41)\; font-family:system-ui\,-apple-system\,system-ui\,.sfnstext-regular\,sans-serif\; font-size:14px">In this 1.5 hour class\, you will hand paint a design on a wine or beer glass guided by an instructor from Le Painted Grape. All painting supplies and wine/beer glass included. Wine and food available for extra purchase from venue. No outside food or drink. We teach you STEP BY STEP so no exp. necessary. Sign up with your friends!</span>
LOCATION:Brewmented 900 S. Hover Longmont\, CO 80501
UID:e.3083.7099
SEQUENCE:3
DTSTAMP:20260426T024357Z
URL:https://members.longmontchamber.org/events/details/member-event-wine-beer-glass-painting-class-at-brewmented-7099
END:VEVENT

END:VCALENDAR
