BEGIN:VCALENDAR
VERSION:2.0
PRODID:-//ChamberMaster//Event Calendar 2.0//EN
METHOD:PUBLISH
X-PUBLISHED-TTL:P3D
REFRESH-INTERVAL:P3D
CALSCALE:GREGORIAN
BEGIN:VEVENT
DTSTART:20200513T180000Z
DTEND:20200513T190000Z
X-MICROSOFT-CDO-ALLDAYEVENT:FALSE
SUMMARY:Member Event: Workplace Commute Ambassadors Meeting
DESCRIPTION:Commuting Solutions is partnering together with the Longmont Economic Development Partnership to host our first Workplace Commute Ambassadors (WCA) meeting of 2020!\n\nThe WCA meetings are a place for employees who are passionate about sustainable transportation to meet like-minded individuals and hear from speakers who are knowledgeable about the subject. \n\n\n\nFree lunch! Also\, hearing from some great speakers about sustainable transportation and the SH 119 project that is currently being funded!
X-ALT-DESC;FMTTYPE=text/html:<span style="font-family:calibri\,sans-serif\;"><span style="font-size:12.0pt\;">Commuting Solutions is partnering together with the Longmont Economic Development Partnership to host our first Workplace Commute Ambassadors (WCA) meeting of 2020!<br />\nThe WCA meetings are a place for employees who are passionate about sustainable transportation to meet like-minded individuals and hear from speakers who are knowledgeable about the subject.&nbsp\;<br />\n<br />\nFree lunch! Also\, hearing from some great speakers about sustainable transportation and the SH 119 project that is currently being funded!&nbsp\;</span></span>
LOCATION:1925 Pike Rd #202 Longmont\, CO 80501
UID:e.3083.7574
SEQUENCE:3
DTSTAMP:20260425T134244Z
URL:https://members.longmontchamber.org/events/details/member-event-workplace-commute-ambassadors-meeting-7574
END:VEVENT

END:VCALENDAR
