BEGIN:VCALENDAR
VERSION:2.0
PRODID:-//ChamberMaster//Event Calendar 2.0//EN
METHOD:PUBLISH
X-PUBLISHED-TTL:P3D
REFRESH-INTERVAL:P3D
CALSCALE:GREGORIAN
BEGIN:VEVENT
DTSTART:20200213T140000Z
DTEND:20200213T190000Z
X-MICROSOFT-CDO-ALLDAYEVENT:FALSE
SUMMARY:Member Event: Workplace Health Symposium
DESCRIPTION:The Workplace Health Symposium hosted by the American Heart Association will bring together Colorado's workplace health leaders to understand the larger context of wellbeing (the community\, our organizations\, our team/manager\, and ourselves) and how employers can address it and act differently toward wellbeing. Attendees will also have the opportunity to network with other leading wellness companies. This event will feature Laura Putnam\, CEO of Motion Infusion and expert on wellbeing in the workplace. \n\nRegister at http://workplacehealthcolorado.heart.org \n\nIf you have any questions about this event\, please email Anne Conner at anne.conner@heart.org
X-ALT-DESC;FMTTYPE=text/html:<p style="margin-left:0px\; margin-right:0px\; text-align:inherit"><span style="color:inherit\; font-family:inherit\; font-size:100%"><span style="color:inherit\; font-family:inherit\; font-size:100%">The Workplace Health Symposium hosted by the American Heart Association&nbsp\;will bring together Colorado&rsquo\;s workplace health leaders to understand the larger context of wellbeing (the community\, our organizations\, our team/manager\, and ourselves) and how employers can address it and act differently toward wellbeing. Attendees will also have the opportunity to network with other leading wellness companies. This event will feature Laura Putnam\, CEO of Motion Infusion and expert on wellbeing in the workplace. </span></span></p>\n\n<p style="margin-left:0px\; margin-right:0px\; text-align:inherit"><span style="color:inherit\; font-family:inherit\; font-size:100%"><span style="color:inherit\; font-family:inherit\; font-size:100%">Register at <span style="color:inherit\; font-family:inherit\; font-size:100%"><u>http://workplacehealthcolorado.heart.org</u></span><span style="color:inherit\; font-family:inherit\; font-size:100%">&nbsp\;</span></span></span></p>\n\n<p style="margin-left:0px\; margin-right:0px\; text-align:inherit"><span style="color:inherit\; font-family:inherit\; font-size:100%"><span style="color:inherit\; font-family:inherit\; font-size:100%">If you have any questions about this event\, please email Anne Conner at anne.conner@heart.org</span></span></p>\n
LOCATION:CU South Denver 10035 S. Peoria St. Parker\, CO 80134
UID:e.3083.7350
SEQUENCE:3
DTSTAMP:20260425T195938Z
URL:https://members.longmontchamber.org/events/details/member-event-workplace-health-symposium-7350
END:VEVENT

END:VCALENDAR
