BEGIN:VCALENDAR
VERSION:2.0
PRODID:-//ChamberMaster//Event Calendar 2.0//EN
METHOD:PUBLISH
X-PUBLISHED-TTL:P3D
REFRESH-INTERVAL:P3D
CALSCALE:GREGORIAN
BEGIN:VEVENT
DTSTART:20190804T160000Z
DTEND:20190804T170000Z
X-MICROSOFT-CDO-ALLDAYEVENT:FALSE
SUMMARY:Member Event:: Yoga & Beer (or Beermosas)
DESCRIPTION:Join us on the first and third Sunday of the month for a fun and relaxing beginner style\, approachable yoga class. The cost is $11 and a cold beverage will be waiting for you afterward!\n\n\n\nYour registration includes one hour of an all-levels yoga class and one beverage of your choice - beer\, beermosa\, kombucha\, or B. Stiff Old Fashioned Soda. There are limited spots available\, so reserve yours today!\n\n\n\nThings to bring:\n\n- a yoga mat (a few extra will be available)\n\n- water bottle\n\n- comfy clothes you can move in\n\n\n\nThis class will be taught by Genevieve Redman. Genevieve currently teaches at Full Circle Yoga in Longmont. She is an enthusiastic yogi that has had her life enriched by the practice. Yoga changed her life because it changed her outlook and her spirit. It gave her direction by showing her the many doors of possibilities that have endless potential and answers. These lessons and her spirit read in her classes which are full of energy\, compassion\, and exploration. Genevieve loves to invite her students to reach through their own yogi journey to find where they need to be at that moment in time. One thing she admires most about yoga is how it takes you to the physical and mental limits but it is also keeping your health and safety in mind all of the time. While keeping this in mind when you attend one of her classes you will achieve the full physical benefit no matter what level your practice is but you will also feel this calming wash come over you as you rinse out any thoughts or feelings that do not serve the present. In other words\, you will be yoga stoned.
X-ALT-DESC;FMTTYPE=text/html:<span style="color:rgb(29\, 33\, 41)\; font-family:system-ui\,-apple-system\,system-ui\,.sfnstext-regular\,sans-serif\; font-size:14px">Join us on the first and third Sunday of the month for a fun and relaxing beginner style\, approachable yoga class. The cost is $11 and a cold beverage will be waiting for you afterward!</span><br />\n<br />\n<span style="color:rgb(29\, 33\, 41)\; font-family:system-ui\,-apple-system\,system-ui\,.sfnstext-regular\,sans-serif\; font-size:14px">Your registration includes one hour of an all-levels yoga class and one beverage of your choice - beer\, beermosa\, kombucha\, or B. Stiff Old Fashioned Soda. There are limited spots available\, so reserve yours today!</span><br />\n<br />\n<span style="color:rgb(29\, 33\, 41)\; font-family:system-ui\,-apple-system\,system-ui\,.sfnstext-regular\,sans-serif\; font-size:14px">Things to bring:</span><br />\n<span style="color:rgb(29\, 33\, 41)\; font-family:system-ui\,-apple-system\,system-ui\,.sfnstext-regular\,sans-serif\; font-size:14px">- a yoga mat (a few extra will be available)</span><br />\n<span style="color:rgb(29\, 33\, 41)\; font-family:system-ui\,-apple-system\,system-ui\,.sfnstext-regular\,sans-serif\; font-size:14px">- water bottle</span><br />\n<span style="color:rgb(29\, 33\, 41)\; font-family:system-ui\,-apple-system\,system-ui\,.sfnstext-regular\,sans-serif\; font-size:14px">- comfy clothes you can move in</span><br />\n<br />\n<span style="color:rgb(29\, 33\, 41)\; font-family:system-ui\,-apple-system\,system-ui\,.sfnstext-regular\,sans-serif\; font-size:14px">This class will be taught by Genevieve Redman. Genevieve currently teaches at Full Circle Yoga in Longmont. She is an enthusiastic yogi that has had her life enriched by the practice. Yoga changed her life because it changed her outlook and her spirit. It gave her direction by showing her the many doors of possibilities that have endless potential and answers. These lessons and her spirit read in her classes which are full of energy\, compassion\, and exploration. Genevieve loves to invite her students to reach through their own yogi journey to find where they need to be at that moment in time. One thing she admires most about yoga is how it takes you to the physical and mental limits but it is also keeping your health and safety in mind all of the time. While keeping this in mind when you attend one of her classes you will achieve the full physical benefit no matter what level your practice is but you will also feel this calming wash come over you as you rinse out any thoughts or feelings that do not serve the present. In other words\, you will be yoga stoned.</span>
LOCATION:Brewmented 900 S. Hover Unit C Longmont\, CO 80501
UID:e.3083.6924
SEQUENCE:3
DTSTAMP:20260426T042442Z
URL:https://members.longmontchamber.org/events/details/member-event-yoga-beer-or-beermosas-6924
END:VEVENT

END:VCALENDAR
