BEGIN:VCALENDAR
VERSION:2.0
PRODID:-//ChamberMaster//Event Calendar 2.0//EN
METHOD:PUBLISH
X-PUBLISHED-TTL:P3D
REFRESH-INTERVAL:P3D
CALSCALE:GREGORIAN
BEGIN:VEVENT
DTSTART:20250930T150000Z
DTEND:20250930T160000Z
X-MICROSOFT-CDO-ALLDAYEVENT:FALSE
SUMMARY:Member Masterclass: Neurofeedback for Personal & Professional Performance presented by Susan Lindgren
DESCRIPTION:Sponsored by FNBO\n\nFree Training for Members & Non-Members\n\nMember Masterclass: Neurofeedback for Personal & Professional Performance\n\nHigh stress is more than a feeling it's a productivity killer.\n\nRecent data shows that 83% of workers experience daily work-related stress\, 60% of Americans are sleep deprived\, and over half report feeling disengaged at work. The cost? Lower productivity\, diminished creativity\, and long-term health impacts that affect both individuals and organizations.\n\nInvesting in your and your team's well-being isn't just good for morale. It's a SMART (Specific\, Measurable\, Achievable\, Realistic\, Timely) business decision.\n\nIn this eye-opening session\, Susan Lindgren of Brain Training Lounge will share how the brain responds to stress\, why it matters for your performance\, and how NeurOptimal  Neurofeedback can help you manage stress\, improve focus\, and enhance overall well-being.\n\nIn This Class\, You'll Learn:\n\n\n	\n	Stress & the Brain   Understand how stress affects cognitive and physical performance.\n	\n	\n	Signs of Stress   Recognize the red flags before they derail your day.\n	\n	\n	Stress Survey Statistics   See what the latest data reveals about workplace stress and sleep deprivation.\n	\n	\n	Ways to Manage Stress   Practical tips to help you and your team reset.\n	\n	\n	NeurOptimal  Neurofeedback   How it supports mind-body wellness and productivity.\n	\n	\n	Quick Stress Assessment Tool   Learn how to easily measure current stress levels for yourself or your team.\n	\n	\n	Action Steps You Can Take Now   Leave with ideas you can implement immediately.\n	\n\n\nWho Should Attend\n\nSmall business owners\, managers\, HR professionals\, and anyone who wants to improve focus\, performance\, and resilience in both work and life.\n\nAbout the Member Masterclass Series\n\nHosted by the Longmont Area Chamber of Commerce\, the Member Masterclass Series is a monthly learning and networking opportunity open to both members and non-members. Each session features practical insights from local experts to help you level up your skills\, expand your network\, and walk away with strategies you can apply immediately.\n\nMeet Your Speaker: Susan M. S. Lindgren\n\nSusan founded Brain Training Lounge in 2019 after personally experiencing the life-changing benefits of NeurOptimal  Neurofeedback. With Basic and Advanced NeurOptimal  Certifications and over 3\,000 sessions facilitated\, she has worked with diverse clients from first responders to students\, veterans\, and traumatic brain injury survivors helping them reduce stress\, sleep better\, and live with greater clarity and confidence. Susan's mission is to make this innovative nervous system self-regulation tool affordable and accessible to all.\n\nSpecial Thanks to Our Sponsor: FNBO\n\nThe Member Masterclass Series is made possible through the generous support of FNBO\, a long-time Chamber partner committed to financial well-being and local economic growth.
X-ALT-DESC;FMTTYPE=text/html:<div class="OutlineElement Ltr SCXW174815174 BCX0" style="-webkit-user-drag: none\; margin: 0px\; padding: 0px\; clear: both\; cursor: text\; overflow: visible\; position: relative\; direction: ltr\; color: rgb(0\, 0\, 0)\; font-family: &quot\;Segoe UI&quot\;\, &quot\;Segoe UI Web&quot\;\, Arial\, Verdana\, sans-serif\;">\n<div class="OutlineElement Ltr SCXW174815174 BCX0" style="-webkit-user-drag: none\; margin: 0px\; padding: 0px\; clear: both\; cursor: text\; overflow: visible\; position: relative\; direction: ltr\; color: rgb(0\, 0\, 0)\; font-family: &quot\;Segoe UI&quot\;\, &quot\;Segoe UI Web&quot\;\, Arial\, Verdana\, sans-serif\;">\n<div class="OutlineElement Ltr SCXW26742188 BCX8" style="-webkit-user-drag: none\; margin: 0px\; padding: 0px\; clear: both\; cursor: text\; overflow: visible\; position: relative\; direction: ltr\; color: rgb(0\, 0\, 0)\; font-family: &quot\;Segoe UI&quot\;\, &quot\;Segoe UI Web&quot\;\, Arial\, Verdana\, sans-serif\;">\n<p data-end="256" data-start="187"><strong data-end="208" data-start="187">Sponsored by FNBO</strong><br data-end="211" data-start="208" />\n<strong data-end="254" data-start="211">Free Training for Members &amp\; Non-Members</strong></p>\n\n<p data-end="337" data-start="258"><span style="font-size:20px\;"><strong data-end="335" data-start="258">Member Masterclass: Neurofeedback for Personal &amp\; Professional Performance</strong></span></p>\n\n<p data-end="697" data-start="339">High stress is more than a feeling&mdash\;it&rsquo\;s a productivity killer.<br data-end="404" data-start="401" />\nRecent data shows that 83% of workers experience daily work-related stress\, 60% of Americans are sleep deprived\, and over half report feeling disengaged at work. The cost? Lower productivity\, diminished creativity\, and long-term health impacts that affect both individuals and organizations.</p>\n\n<p data-end="859" data-start="699">Investing in your&mdash\;and your team&rsquo\;s&mdash\;well-being isn&rsquo\;t just good for morale. It&rsquo\;s a SMART (Specific\, Measurable\, Achievable\, Realistic\, Timely) business decision.</p>\n\n<p data-end="1127" data-start="861">In this eye-opening session\, <strong data-end="908" data-start="890">Susan Lindgren</strong> of Brain Training Lounge will share how the brain responds to stress\, why it matters for your performance\, and how NeurOptimal&reg\; Neurofeedback can help you manage stress\, improve focus\, and enhance overall well-being.</p>\n\n<p data-end="1163" data-start="1129"><span style="font-size:20px\;"><strong data-end="1161" data-start="1129">In This Class\, You&rsquo\;ll Learn:</strong></span></p>\n\n<ul data-end="1825" data-start="1164">\n	<li data-end="1258" data-start="1164">\n	<p data-end="1258" data-start="1166"><strong data-end="1188" data-start="1166">Stress &amp\; the Brain</strong> &ndash\; Understand how stress affects cognitive and physical performance.</p>\n	</li>\n	<li data-end="1337" data-start="1259">\n	<p data-end="1337" data-start="1261"><strong data-end="1280" data-start="1261">Signs of Stress</strong> &ndash\; Recognize the red flags before they derail your day.</p>\n	</li>\n	<li data-end="1451" data-start="1338">\n	<p data-end="1451" data-start="1340"><strong data-end="1368" data-start="1340">Stress Survey Statistics</strong> &ndash\; See what the latest data reveals about workplace stress and sleep deprivation.</p>\n	</li>\n	<li data-end="1531" data-start="1452">\n	<p data-end="1531" data-start="1454"><strong data-end="1479" data-start="1454">Ways to Manage Stress</strong> &ndash\; Practical tips to help you and your team reset.</p>\n	</li>\n	<li data-end="1621" data-start="1532">\n	<p data-end="1621" data-start="1534"><strong data-end="1564" data-start="1534">NeurOptimal&reg\; Neurofeedback</strong> &ndash\; How it supports mind-body wellness and productivity.</p>\n	</li>\n	<li data-end="1737" data-start="1622">\n	<p data-end="1737" data-start="1624"><strong data-end="1656" data-start="1624">Quick Stress Assessment Tool</strong> &ndash\; Learn how to easily measure current stress levels for yourself or your team.</p>\n	</li>\n	<li data-end="1825" data-start="1738">\n	<p data-end="1825" data-start="1740"><strong data-end="1773" data-start="1740">Action Steps You Can Take Now</strong> &ndash\; Leave with ideas you can implement immediately.</p>\n	</li>\n</ul>\n\n<p data-end="1993" data-start="1827"><strong data-end="1848" data-start="1827">Who Should Attend</strong><br data-end="1851" data-start="1848" />\nSmall business owners\, managers\, HR professionals\, and anyone who wants to improve focus\, performance\, and resilience in both work and life.</p>\n\n<p data-end="2376" data-start="1995"><strong data-end="2034" data-start="1995">About the Member Masterclass Series</strong><br data-end="2037" data-start="2034" />\nHosted by the Longmont Area Chamber of Commerce\, the Member Masterclass Series is a monthly learning and networking opportunity open to both members and non-members. Each session features practical insights from local experts to help you level up your skills\, expand your network\, and walk away with strategies you can apply immediately.</p>\n\n<p data-end="2965" data-start="2378"><strong data-end="2421" data-start="2378">Meet Your Speaker: Susan M. S. Lindgren</strong><br data-end="2424" data-start="2421" />\nSusan founded Brain Training Lounge in 2019 after personally experiencing the life-changing benefits of NeurOptimal&reg\; Neurofeedback. With Basic and Advanced NeurOptimal&reg\; Certifications and over 3\,000 sessions facilitated\, she has worked with diverse clients&mdash\;from first responders to students\, veterans\, and traumatic brain injury survivors&mdash\;helping them reduce stress\, sleep better\, and live with greater clarity and confidence. Susan&rsquo\;s mission is to make this innovative nervous system self-regulation tool affordable and accessible to all.</p>\n\n<p data-end="3184" data-start="2967"><strong data-end="3006" data-start="2967">Special Thanks to Our Sponsor: FNBO</strong><br data-end="3009" data-start="3006" />\nThe Member Masterclass Series is made possible through the generous support of FNBO\, a long-time Chamber partner committed to financial well-being and local economic growth.</p>\n</div>\n</div>\n</div>\n
LOCATION:Longmont Chamber Conference Room
UID:e.3083.14208
SEQUENCE:3
DTSTAMP:20260421T064012Z
URL:https://members.longmontchamber.org/events/details/member-masterclass-neurofeedback-for-personal-professional-performance-presented-by-susan-lindgren-14208
END:VEVENT

END:VCALENDAR
