BEGIN:VCALENDAR
VERSION:2.0
PRODID:-//ChamberMaster//Event Calendar 2.0//EN
METHOD:PUBLISH
X-PUBLISHED-TTL:P3D
REFRESH-INTERVAL:P3D
CALSCALE:GREGORIAN
BEGIN:VEVENT
DTSTART:20250729T150000Z
DTEND:20250729T160000Z
X-MICROSOFT-CDO-ALLDAYEVENT:FALSE
SUMMARY:Member Masterclass Presented by NextLight: The Hidden Risks in Your WiFi Setup
DESCRIPTION:The Hidden Risks in Your WiFi Setup\n\n  and How to Fix Them\n\nMember Masterclass Presented by NextLight\n\n\n\nSponsored by FNBO\n\n\nThis Month's Topic:\n\nIs your business network really working for you   or putting you at risk?\n\nWhat would happen if your internet went down for just one hour?\n\n\nDowntime costs small businesses an average of $427 per minute.\n\n\nAre your customers' credit card details truly protected?\n\n\nEvery business that accepts cards must be PCI compliant   and 87% of small businesses have customer data that could be compromised.\n\n\nAre you capturing customer emails through your WiFi   or missing that marketing opportunity entirely?\n\nJoin us for a focused\, one-hour Masterclass built specifically for Longmont's small business community. We'll cover the risks\, missed opportunities\, and simple fixes that can make your network safer\, smarter\, and more cost-effective.\n\n\nIn This Class\, You'll Learn:\n\n\n	\n	What's required to protect customer data and maintain PCI compliance\n	\n	\n	How to turn guest WiFi into a free marketing tool\n	\n	\n	How to keep your business running during an internet outage\n	\n	\n	Why the right setup saves time\, money\, and eliminates the need for full-time IT\n	\n\n\n\nMeet Your Host: NextLight\n\nNextLight isn't just an internet provider   it's Longmont's locally-owned\, community-powered fiber network. Built for Longmont\, by Longmont\, NextLight delivers gig-speed connectivity backed by real\, local support.\n\nWhether you're running a storefront\, managing a remote team\, or securing internal systems\, NextLight offers speed\, reliability\, and neighborly service you can count on.\n\nRecognized as one of the fastest ISPs in the nation\, NextLight brings both technical expertise and community care to help you power your business smarter and safer.\n\n\nAbout the Series\n\nThe Member Masterclass Series is a monthly learning and networking opportunity open to both Chamber members and non-members.\n\nEach session features practical insights from local professionals to help you:\n\n\n	\n	Level up your skills\n	\n	\n	Expand your network\n	\n	\n	Walk away with strategies you can apply immediately\n	\n\n\nHosted by the Longmont Area Chamber of Commerce\, this series reflects our commitment to supporting the entire business community   because when local professionals grow\, Longmont grows with them.\n\nEach session includes a 30-minute presentation\, interactive Q&A\, and networking.\n\n\nThank You to Our Sponsor: FNBO\n\nThe Member Masterclass series is made possible through the generous support of FNBO\, a long-time Chamber partner committed to financial well-being and local economic growth.
X-ALT-DESC;FMTTYPE=text/html:<div class="OutlineElement Ltr SCXW174815174 BCX0" style="-webkit-user-drag: none\; margin: 0px\; padding: 0px\; clear: both\; cursor: text\; overflow: visible\; position: relative\; direction: ltr\; color: rgb(0\, 0\, 0)\; font-family: &quot\;Segoe UI&quot\;\, &quot\;Segoe UI Web&quot\;\, Arial\, Verdana\, sans-serif\;">\n<div class="OutlineElement Ltr SCXW174815174 BCX0" style="-webkit-user-drag: none\; margin: 0px\; padding: 0px\; clear: both\; cursor: text\; overflow: visible\; position: relative\; direction: ltr\; color: rgb(0\, 0\, 0)\; font-family: &quot\;Segoe UI&quot\;\, &quot\;Segoe UI Web&quot\;\, Arial\, Verdana\, sans-serif\;">\n<div class="OutlineElement Ltr SCXW26742188 BCX8" style="-webkit-user-drag: none\; margin: 0px\; padding: 0px\; clear: both\; cursor: text\; overflow: visible\; position: relative\; direction: ltr\; color: rgb(0\, 0\, 0)\; font-family: &quot\;Segoe UI&quot\;\, &quot\;Segoe UI Web&quot\;\, Arial\, Verdana\, sans-serif\;">\n<p data-end="628" data-start="132" style="font-size: 12px\; caret-color: rgb(0\, 0\, 0)\; color: rgb(0\, 0\, 0)\;">&nbsp\;</p>\n\n<h3 data-end="252" data-start="185" style="caret-color: rgb(0\, 0\, 0)\; color: rgb(0\, 0\, 0)\;"><span style="font-size:24px\;"><strong data-end="250" data-start="189">The Hidden Risks in Your WiFi Setup<br />\n&mdash\; and How to Fix Them</strong></span></h3>\n\n<p data-end="298" data-start="253" style="caret-color: rgb(0\, 0\, 0)\; color: rgb(0\, 0\, 0)\;"><span style="font-size:18px\;"><strong data-end="298" data-start="253"><span style="font-size:20px\;">Member Masterclass Presented by NextLight</span></strong><br />\n<br />\n<strong data-end="298" data-start="253"><em>Sponsored by FNBO</em></strong></span></p>\n\n<hr data-end="303" data-start="300" />\n<h4 data-end="335" data-start="305" style="caret-color: rgb(0\, 0\, 0)\; color: rgb(0\, 0\, 0)\;"><span style="font-size:18px\;"><strong data-end="333" data-start="310">This Month&rsquo\;s Topic:</strong></span></h4>\n\n<p data-end="413" data-start="336" style="caret-color: rgb(0\, 0\, 0)\; color: rgb(0\, 0\, 0)\;"><span style="font-size:18px\;"><strong data-end="413" data-start="336">Is your business network really working for you &mdash\; or putting you at risk?</strong></span></p>\n\n<p data-end="480" data-start="415" style="caret-color: rgb(0\, 0\, 0)\; color: rgb(0\, 0\, 0)\;"><span style="font-size:16px\;">What would happen if your internet went down for just one hour?</span></p>\n\n<blockquote data-end="547" data-start="481" style="font-style: normal\; caret-color: rgb(0\, 0\, 0)\; color: rgb(0\, 0\, 0)\;">\n<p data-end="547" data-start="483"><span style="font-size:16px\;"><em data-end="547" data-start="483">Downtime costs small businesses an average of $427 per minute.</em></span></p>\n</blockquote>\n\n<p data-end="607" data-start="549" style="caret-color: rgb(0\, 0\, 0)\; color: rgb(0\, 0\, 0)\;"><span style="font-size:16px\;">Are your customers&rsquo\; credit card details truly protected?</span></p>\n\n<blockquote data-end="743" data-start="608" style="font-style: normal\; caret-color: rgb(0\, 0\, 0)\; color: rgb(0\, 0\, 0)\;">\n<p data-end="743" data-start="610"><span style="font-size:16px\;"><em data-end="743" data-start="610">Every business that accepts cards must be PCI compliant &mdash\; and 87% of small businesses have customer data that could be compromised.</em></span></p>\n</blockquote>\n\n<p data-end="846" data-start="745" style="caret-color: rgb(0\, 0\, 0)\; color: rgb(0\, 0\, 0)\;"><span style="font-size:16px\;">Are you capturing customer emails through your WiFi &mdash\; or missing that marketing opportunity entirely?</span></p>\n\n<p data-end="1081" data-start="848" style="caret-color: rgb(0\, 0\, 0)\; color: rgb(0\, 0\, 0)\;"><span style="font-size:16px\;">Join us for a focused\, one-hour Masterclass built specifically for Longmont&rsquo\;s small business community. We&rsquo\;ll cover the risks\, missed opportunities\, and simple fixes that can make your network safer\, smarter\, and more cost-effective.</span></p>\n\n<hr data-end="1086" data-start="1083" />\n<h4 data-end="1125" data-start="1088" style="caret-color: rgb(0\, 0\, 0)\; color: rgb(0\, 0\, 0)\;"><span style="font-size:18px\;"><strong data-end="1125" data-start="1093">In This Class\, You&rsquo\;ll Learn:</strong></span></h4>\n\n<ul data-end="1398" data-start="1126" style="caret-color: rgb(0\, 0\, 0)\; color: rgb(0\, 0\, 0)\;">\n	<li data-end="1198" data-start="1126">\n	<p data-end="1198" data-start="1128"><span style="font-size:16px\;">What&rsquo\;s required to protect customer data and maintain PCI compliance</span></p>\n	</li>\n	<li data-end="1252" data-start="1199">\n	<p data-end="1252" data-start="1201"><span style="font-size:16px\;">How to turn guest WiFi into a free marketing tool</span></p>\n	</li>\n	<li data-end="1316" data-start="1253">\n	<p data-end="1316" data-start="1255"><span style="font-size:16px\;">How to keep your business running during an internet outage</span></p>\n	</li>\n	<li data-end="1398" data-start="1317">\n	<p data-end="1398" data-start="1319"><span style="font-size:16px\;">Why the right setup saves time\, money\, and eliminates the need for full-time IT</span></p>\n	</li>\n</ul>\n\n<hr data-end="1403" data-start="1400" />\n<h3 data-end="1438" data-start="1405" style="caret-color: rgb(0\, 0\, 0)\; color: rgb(0\, 0\, 0)\;"><span style="font-size:18px\;"><strong data-end="1438" data-start="1409">Meet Your Host: NextLight</strong></span></h3>\n\n<p data-end="1653" data-start="1440" style="caret-color: rgb(0\, 0\, 0)\; color: rgb(0\, 0\, 0)\;"><span style="font-size:16px\;">NextLight isn&rsquo\;t just an internet provider &mdash\; it&rsquo\;s Longmont&rsquo\;s locally-owned\, community-powered fiber network. Built for Longmont\, by Longmont\, NextLight delivers gig-speed connectivity backed by real\, local support.</span></p>\n\n<p data-end="1823" data-start="1655" style="caret-color: rgb(0\, 0\, 0)\; color: rgb(0\, 0\, 0)\;"><span style="font-size:16px\;">Whether you&#39\;re running a storefront\, managing a remote team\, or securing internal systems\, NextLight offers speed\, reliability\, and neighborly service you can count on.</span></p>\n\n<p data-end="1997" data-start="1825" style="caret-color: rgb(0\, 0\, 0)\; color: rgb(0\, 0\, 0)\;"><span style="font-size:16px\;">Recognized as one of the fastest ISPs in the nation\, NextLight brings both&nbsp\;<strong data-end="1923" data-start="1900">technical expertise</strong>&nbsp\;and&nbsp\;<strong data-end="1946" data-start="1928">community care</strong>&nbsp\;to help you power your business smarter and safer.</span></p>\n\n<hr data-end="2002" data-start="1999" />\n<h3 data-end="2028" data-start="2004" style="caret-color: rgb(0\, 0\, 0)\; color: rgb(0\, 0\, 0)\;"><span style="font-size:18px\;"><strong data-end="2028" data-start="2008">About the Series</strong></span></h3>\n\n<p data-end="2158" data-start="2030" style="caret-color: rgb(0\, 0\, 0)\; color: rgb(0\, 0\, 0)\;"><span style="font-size:16px\;">The&nbsp\;<strong data-end="2063" data-start="2034">Member Masterclass Series</strong>&nbsp\;is a monthly learning and networking opportunity open to both Chamber members and non-members.</span></p>\n\n<p data-end="2238" data-start="2160" style="caret-color: rgb(0\, 0\, 0)\; color: rgb(0\, 0\, 0)\;"><span style="font-size:16px\;">Each session features practical insights from local professionals to help you:</span></p>\n\n<ul data-end="2341" data-start="2239" style="caret-color: rgb(0\, 0\, 0)\; color: rgb(0\, 0\, 0)\;">\n	<li data-end="2263" data-start="2239">\n	<p data-end="2263" data-start="2241"><span style="font-size:16px\;">Level up your skills</span></p>\n	</li>\n	<li data-end="2287" data-start="2264">\n	<p data-end="2287" data-start="2266"><span style="font-size:16px\;">Expand your network</span></p>\n	</li>\n	<li data-end="2341" data-start="2288">\n	<p data-end="2341" data-start="2290"><span style="font-size:16px\;">Walk away with strategies you can apply immediately</span></p>\n	</li>\n</ul>\n\n<p data-end="2542" data-start="2343" style="caret-color: rgb(0\, 0\, 0)\; color: rgb(0\, 0\, 0)\;"><span style="font-size:16px\;">Hosted by the&nbsp\;<strong data-end="2394" data-start="2357">Longmont Area Chamber of Commerce</strong>\, this series reflects our commitment to supporting the entire business community &mdash\; because when local professionals grow\, Longmont grows with them.</span></p>\n\n<p data-end="2627" data-start="2544" style="caret-color: rgb(0\, 0\, 0)\; color: rgb(0\, 0\, 0)\;"><span style="font-size:16px\;">Each session includes a 30-minute presentation\, interactive Q&amp\;A\, and networking.</span></p>\n\n<hr data-end="2632" data-start="2629" />\n<h3 data-end="2674" data-start="2634" style="caret-color: rgb(0\, 0\, 0)\; color: rgb(0\, 0\, 0)\;"><span style="font-size:18px\;"><strong data-end="2672" data-start="2638">Thank You to Our Sponsor: FNBO</strong></span></h3>\n\n<p data-end="2852" data-start="2675" style="caret-color: rgb(0\, 0\, 0)\; color: rgb(0\, 0\, 0)\;"><span style="font-size:16px\;">The Member Masterclass series is made possible through the generous support of&nbsp\;<strong data-end="2762" data-start="2754">FNBO</strong>\, a long-time Chamber partner committed to financial well-being and local economic growth.</span></p>\n</div>\n</div>\n</div>\n
LOCATION:Longmont Chamber Conference Room
UID:e.3083.13567
SEQUENCE:3
DTSTAMP:20260421T111053Z
URL:https://members.longmontchamber.org/events/details/member-masterclass-presented-by-nextlight-the-hidden-risks-in-your-wifi-setup-13567
END:VEVENT

END:VCALENDAR
