BEGIN:VCALENDAR
VERSION:2.0
PRODID:-//ChamberMaster//Event Calendar 2.0//EN
METHOD:PUBLISH
X-PUBLISHED-TTL:P3D
REFRESH-INTERVAL:P3D
CALSCALE:GREGORIAN
BEGIN:VEVENT
DTSTART:20250826T150000Z
DTEND:20250826T160000Z
X-MICROSOFT-CDO-ALLDAYEVENT:FALSE
SUMMARY:Member Masterclass: The Anatomy of Great Sales presented by Sondra Harper
DESCRIPTION:Sponsored by FNBO\n\n\nFree Training for Small Business Owners\n\nStruggling to close sales   even though you're great at what you do?\n\nYou're not alone. And it's not your fault.\n\nMost business owners were never taught how to sell in a way that feels natural\, clear\, and effective. Instead\, they rely on guesswork  a vague pitch\, random referrals\, awkward objections\, and conversations that almost go somewhere.\n\nThis fast-paced 45-minute Masterclass will show you a better way.\n\n\nIn This Class\, You'll Learn How To:\n\n\n	\n	Fix the 3 Silent Sales Killers\n\n	Identify the hidden gaps in your pitch\, objection handling\, and online visibility that are costing you sales right now.\n	\n	\n	Craft an Elevator Pitch That Gets Remembered\n\n	Build a one-liner that hooks attention\, sparks curiosity\, and makes people lean in.\n	\n	\n	Build Rapport Before You Pitch\n\n	Understand why 93% of buyers need to feel connected first and how to create that connection fast.\n	\n	\n	Handle Objections Without Feeling Pushy\n\n	Use one powerful\, trust-building question to turn hesitation into a confident yes.\n	\n	\n	Get Found Where Buyers Are Looking\n\n	Simple steps to show up in Google search\, local directories\, and online spaces where your ideal clients are searching.\n	\n	\n	Plug Into Real-World Scripts & Examples\n\n	Leave with proven words and strategies you can use in your very next sales conversation.\n	\n\n\nThis isn't fluff. This is real-world sales strategy made simple\, clear\, and instantly usable.\n\n\nWho Should Attend\n\nThis session is designed for local business owners\, sales professionals\, and anyone who wants to close more sales without feeling pushy or awkward.\n\n\nAbout the Member Masterclass Series\n\nHosted by the Longmont Area Chamber of Commerce\, the Member Masterclass Series is a monthly learning and networking opportunity open to both members and non-members. Each session features practical insights from local experts to help you level up your skills\, expand your network\, and walk away with strategies you can apply immediately.\n\n\nMeet Your Host: Sondra Harper\n\nSondra Harper is an ICF-accredited coach with over 15 years of experience helping small business owners move past stagnant sales and unlock their full potential. A former entrepreneur herself\, Sondra has built\, operated\, and sold multiple businesses   giving her a deep understanding of the real-world challenges business owners face.\n\nHer signature coaching framework helps clients master sales conversations\, build resilient businesses\, and align strategies with the customer journey. With a blend of empathy\, expertise\, and actionable insight\, Sondra empowers business owners to break through barriers and create lasting success.\n\nBuy Sondra's Book Here! Ditch Your Brand\, Fix Your Pitch\n\n\nSpecial Thanks to Our Sponsor: FNBO\n\nThe Member Masterclass Series is made possible through the generous support of FNBO\, a long-time Chamber partner committed to financial well-being and local economic growth.
X-ALT-DESC;FMTTYPE=text/html:<div class="OutlineElement Ltr SCXW174815174 BCX0" style="-webkit-user-drag: none\; margin: 0px\; padding: 0px\; clear: both\; cursor: text\; overflow: visible\; position: relative\; direction: ltr\; color: rgb(0\, 0\, 0)\; font-family: &quot\;Segoe UI&quot\;\, &quot\;Segoe UI Web&quot\;\, Arial\, Verdana\, sans-serif\;">\n<div class="OutlineElement Ltr SCXW174815174 BCX0" style="-webkit-user-drag: none\; margin: 0px\; padding: 0px\; clear: both\; cursor: text\; overflow: visible\; position: relative\; direction: ltr\; color: rgb(0\, 0\, 0)\; font-family: &quot\;Segoe UI&quot\;\, &quot\;Segoe UI Web&quot\;\, Arial\, Verdana\, sans-serif\;">\n<div class="OutlineElement Ltr SCXW26742188 BCX8" style="-webkit-user-drag: none\; margin: 0px\; padding: 0px\; clear: both\; cursor: text\; overflow: visible\; position: relative\; direction: ltr\; color: rgb(0\, 0\, 0)\; font-family: &quot\;Segoe UI&quot\;\, &quot\;Segoe UI Web&quot\;\, Arial\, Verdana\, sans-serif\;">\n<h1 data-end="272" data-start="222"><span style="font-size:18px\;">Sponsored by FNBO</span></h1>\n\n<hr data-end="343" data-start="340" />\n<h2 data-end="389" data-start="345">Free Training for Small Business Owners</h2>\n\n<p data-end="508" data-start="391"><strong data-end="463" data-start="391">Struggling to close sales &mdash\; even though you&rsquo\;re great at what you do?</strong><br data-end="466" data-start="463" />\nYou&rsquo\;re not alone. And it&rsquo\;s not your fault.</p>\n\n<p data-end="741" data-start="510">Most business owners were never taught how to sell in a way that feels natural\, clear\, and effective. Instead\, they rely on guesswork&hellip\; a vague pitch\, random referrals\, awkward objections\, and conversations that almost go somewhere.</p>\n\n<p data-end="808" data-start="743">This fast-paced 45-minute Masterclass will show you a better way.</p>\n\n<hr data-end="813" data-start="810" />\n<h2 data-end="853" data-start="815">In This Class\, You&rsquo\;ll Learn How To:</h2>\n\n<ul data-end="1734" data-start="855">\n	<li data-end="1015" data-start="855">\n	<p data-end="1015" data-start="857"><strong data-end="891" data-start="857">Fix the 3 Silent Sales Killers</strong><br data-end="894" data-start="891" />\n	Identify the hidden gaps in your pitch\, objection handling\, and online visibility that are costing you sales right now.</p>\n	</li>\n	<li data-end="1155" data-start="1017">\n	<p data-end="1155" data-start="1019"><strong data-end="1067" data-start="1019">Craft an Elevator Pitch That Gets Remembered</strong><br data-end="1070" data-start="1067" />\n	Build a one-liner that hooks attention\, sparks curiosity\, and makes people lean in.</p>\n	</li>\n	<li data-end="1295" data-start="1157">\n	<p data-end="1295" data-start="1159"><strong data-end="1193" data-start="1159">Build Rapport Before You Pitch</strong><br data-end="1196" data-start="1193" />\n	Understand why 93% of buyers need to feel connected first&mdash\;and how to create that connection fast.</p>\n	</li>\n	<li data-end="1429" data-start="1297">\n	<p data-end="1429" data-start="1299"><strong data-end="1342" data-start="1299">Handle Objections Without Feeling Pushy</strong><br data-end="1345" data-start="1342" />\n	Use one powerful\, trust-building question to turn hesitation into a confident yes.</p>\n	</li>\n	<li data-end="1594" data-start="1431">\n	<p data-end="1594" data-start="1433"><strong data-end="1471" data-start="1433">Get Found Where Buyers Are Looking</strong><br data-end="1474" data-start="1471" />\n	Simple steps to show up in Google search\, local directories\, and online spaces where your ideal clients are searching.</p>\n	</li>\n	<li data-end="1734" data-start="1596">\n	<p data-end="1734" data-start="1598"><strong data-end="1641" data-start="1598">Plug Into Real-World Scripts &amp\; Examples</strong><br data-end="1644" data-start="1641" />\n	Leave with proven words and strategies you can use in your very next sales conversation.</p>\n	</li>\n</ul>\n\n<p data-end="1829" data-start="1736">This isn&rsquo\;t fluff. This is real-world sales strategy made simple\, clear\, and instantly usable.</p>\n\n<hr data-end="1834" data-start="1831" />\n<h2 data-end="1856" data-start="1836">Who Should Attend</h2>\n\n<p data-end="2005" data-start="1858">This session is designed for local business owners\, sales professionals\, and anyone who wants to close more sales without feeling pushy or awkward.</p>\n\n<hr data-end="2010" data-start="2007" />\n<h2 data-end="2050" data-start="2012">About the Member Masterclass Series</h2>\n\n<p data-end="2389" data-start="2052">Hosted by the Longmont Area Chamber of Commerce\, the Member Masterclass Series is a monthly learning and networking opportunity open to both members and non-members. Each session features practical insights from local experts to help you level up your skills\, expand your network\, and walk away with strategies you can apply immediately.</p>\n\n<hr data-end="2394" data-start="2391" />\n<h2 data-end="2428" data-start="2396">Meet Your Host: Sondra Harper</h2>\n\n<p data-end="2764" data-start="2430">Sondra Harper is an ICF-accredited coach with over 15 years of experience helping small business owners move past stagnant sales and unlock their full potential. A former entrepreneur herself\, Sondra has built\, operated\, and sold multiple businesses &mdash\; giving her a deep understanding of the real-world challenges business owners face.</p>\n\n<p data-end="3062" data-start="2766">Her signature coaching framework helps clients master sales conversations\, build resilient businesses\, and align strategies with the customer journey. With a blend of empathy\, expertise\, and actionable insight\, Sondra empowers business owners to break through barriers and create lasting success.</p>\n\n<p data-end="3126" data-start="3064"><strong data-end="3091" data-start="3064">Buy Sondra&#39\;s Book Here!</strong> <a href="https://www.amazon.com/Ditch-Your-Brand-Fix-Pitch/dp/B0FJKTDM7Q?crid=1E7VX7QHNQUT0&amp\;dib=eyJ2IjoiMSJ9._bMLYWxZyCoHpjPdgdGWpo0UmB97qVNmn7y3ZqUITEiWWVhThijdeD5u7ogfY1l8tEZ5dqIjmPejYeGiR8fY3GP0J0OTNe6nke7CqWYWmyrVyuMebpH-2JZENhh0uvfakZyXH7lTaiUwS4mIJZhse-GZd-Tfg0DUp5Zb79dYLml7PXDpl8JRSfxnaUZE_FKCUtdyLTyrlLnMHOQ7Jb0FcmxOInvt-7LbapsvQKLvmEs.E1CalTUSS4gICiIIhiE822aJhpLTnQT7n4DjDZU3KkM&amp\;dib_tag=se&amp\;keywords=ditch+your+brand&amp\;qid=1754681683&amp\;sprefix=ditch+your+brand+%2Caps%2C118&amp\;sr=8-1"><em data-end="3126" data-start="3092">Ditch Your Brand\, Fix Your Pitch</em></a></p>\n\n<hr data-end="3131" data-start="3128" />\n<h2 data-end="3171" data-start="3133">Special Thanks to Our Sponsor: FNBO</h2>\n\n<p data-end="3346" data-start="3173">The Member Masterclass Series is made possible through the generous support of FNBO\, a long-time Chamber partner committed to financial well-being and local economic growth.</p>\n</div>\n</div>\n</div>\n
LOCATION:Longmont Chamber Conference Room
UID:e.3083.14206
SEQUENCE:3
DTSTAMP:20260421T082950Z
URL:https://members.longmontchamber.org/events/details/member-masterclass-the-anatomy-of-great-sales-presented-by-sondra-harper-14206
END:VEVENT

END:VCALENDAR
