BEGIN:VCALENDAR
VERSION:2.0
PRODID:-//ChamberMaster//Event Calendar 2.0//EN
METHOD:PUBLISH
X-PUBLISHED-TTL:P3D
REFRESH-INTERVAL:P3D
CALSCALE:GREGORIAN
BEGIN:VEVENT
DTSTART:20251028T150000Z
DTEND:20251028T160000Z
X-MICROSOFT-CDO-ALLDAYEVENT:FALSE
SUMMARY:Member Masterclass: Truth or Trap? Navigating the New Fraud Landscape
DESCRIPTION:Sponsored by FNBO\n\nFree Training for Members & Non-Members\n\nMember Masterclass: Truth or Trap? Navigating the New Fraud Landscape\n\nJoin us to hear the latest trends in fraud and how you can protect your business.\n\nFraud is on the rise\, and businesses are paying the price. According to the AFP Payments Fraud and Control Survey Report for 2025\, 79% of businesses experienced actual or attempted fraud in 2024.\n\nThe impact of fraud on businesses can be significant\, including financial losses\, damage to reputation\, and legal and regulatory consequences. Technology alone can't eliminate fraud risk. Constant vigilance and smart internal practices are also important. With the right strategy\, businesses can detect and prevent fraud faster and reduce its negative impact\, leading to cost reduction\, better customer experience\, and higher revenue.\n\nDuring this session\, we will cover what you need to know about fraud\, how it happens\, and what you can do to protect your business and customers.  \n\n\nAbout the speakers:\n\nBrittany Brown\, Commercial Payments Advisor at FNBO\, works closely with clients and provides tailored solutions for cash management needs\, fraud protections and innovative payments. By learning about businesses and their specific needs\, she can provide a holistic approach to each client to help achieve their goals.\n\nMonty Meduna\, Senior Advisor of Commercial Banking at FNBO\, provides businesses large bank services but with the personal touch of a community bank committed to exceptional service. With more than 30 years in banking\, he is well positioned to provide informed guidance to help businesses meet their financial goals.\n\n\nAbout the Member Masterclass Series\n\nHosted by the Longmont Area Chamber of Commerce\, the Member Masterclass Series is a monthly learning and networking opportunity open to both members and non-members. Each session features practical insights from local experts to help you level up your skills\, expand your network\, and walk away with strategies you can apply immediately.\n\nSpecial Thanks to Our Sponsor: FNBO\n\nThe Member Masterclass Series is made possible through the generous support of FNBO\, a long-time Chamber partner committed to financial well-being and local economic growth.
X-ALT-DESC;FMTTYPE=text/html:<div class="OutlineElement Ltr SCXW174815174 BCX0" segoe="" style="-webkit-user-drag: none\; margin: 0px\; padding: 0px\; clear: both\; cursor: text\; overflow: visible\; position: relative\; direction: ltr\; color: rgb(0\, 0\, 0)\; font-family: " ui="">\n<div class="OutlineElement Ltr SCXW174815174 BCX0" segoe="" style="-webkit-user-drag: none\; margin: 0px\; padding: 0px\; clear: both\; cursor: text\; overflow: visible\; position: relative\; direction: ltr\; color: rgb(0\, 0\, 0)\; font-family: " ui="">\n<div class="OutlineElement Ltr SCXW26742188 BCX8" segoe="" style="-webkit-user-drag: none\; margin: 0px\; padding: 0px\; clear: both\; cursor: text\; overflow: visible\; position: relative\; direction: ltr\; color: rgb(0\, 0\, 0)\; font-family: " ui="">\n<p data-end="256" data-start="187"><span style="font-family:arial\;"><span style="font-size:14px\;"><strong data-end="208" data-start="187">Sponsored by FNBO</strong><br data-end="211" data-start="208" />\n<strong data-end="254" data-start="211">Free Training for Members &amp\; Non-Members</strong></span></span></p>\n\n<p data-end="337" data-start="258"><span style="font-family:arial\;"><span style="font-size:22px\;"><strong data-end="335" data-start="258">Member Masterclass: Truth or Trap? Navigating the New Fraud Landscape</strong></span></span></p>\n\n<p data-olk-copy-source="MessageBody" style="color: rgb(0\, 0\, 0)\; font-size: 12pt\; font-family: Aptos\, sans-serif\; direction: ltr\; margin: 0px\;"><span style="font-family:arial\;"><span style="font-size:14px\;">Join us to hear the latest trends in fraud and how you can protect your business.</span></span></p>\n\n<p aria-hidden="true" style="color: rgb(0\, 0\, 0)\; font-size: 12pt\; font-family: Aptos\, sans-serif\; direction: ltr\; margin: 0px\;"><span style="font-family:arial\;"><span style="font-size:14px\;">Fraud is on the rise\, and businesses are paying the price. According to the AFP Payments Fraud and Control Survey Report for 2025\, 79% of businesses experienced actual or attempted fraud in 2024.</span></span></p>\n\n<p aria-hidden="true" style="color: rgb(0\, 0\, 0)\; font-size: 12pt\; font-family: Aptos\, sans-serif\; direction: ltr\; margin: 0px\;"><span style="font-family:arial\;"><span style="font-size:14px\;">The impact of fraud on businesses can be significant\, including financial losses\, damage to reputation\, and legal and regulatory consequences. Technology alone can&rsquo\;t eliminate fraud risk. Constant vigilance and smart internal practices are also important. With the right strategy\, businesses can detect and prevent fraud faster and reduce its negative impact\, leading to cost reduction\, better customer experience\, and higher revenue.</span></span><br />\n<span style="font-family:arial\;"><span style="font-size:14px\;">During this session\, we will cover what you need to know about fraud\, how it happens\, and what you can do to protect your business and customers.&nbsp\;&nbsp\;</span></span></p>\n\n<hr />\n<p style="color: rgb(0\, 0\, 0)\; font-size: 12pt\; font-family: Aptos\, sans-serif\; direction: ltr\; margin: 0px\;"><span style="font-family:arial\;"><span style="font-size:16px\;"><b>About the speakers:</b></span></span></p>\n\n<p aria-hidden="true" style="color: rgb(0\, 0\, 0)\; font-size: 12pt\; font-family: Aptos\, sans-serif\; direction: ltr\; margin: 0px\;"><span style="font-family:arial\;"><span style="font-size:14px\;"><strong><span style="border: 0px\; font-style: inherit\; font-variant: inherit\; font-weight: inherit\; font-stretch: inherit\; line-height: inherit\; font-optical-sizing: inherit\; font-size-adjust: inherit\; font-kerning: inherit\; font-feature-settings: inherit\; font-variation-settings: inherit\; margin: 0px\; padding: 0px\; vertical-align: baseline\; color: blue\;"><u><a data-auth="NotApplicable" data-linkindex="2" href="https://www.fnbo.com/commercial-team/brown-brittany" id="OWA7fd8d8b3-a688-3140-12e4-9e3cfe05b125" style="border: 0px\; font: inherit\; margin: 0px\; padding: 0px\; vertical-align: baseline\; color: blue\;" title="https://www.fnbo.com/commercial-team/brown-brittany">Brittany Brown</a></u></span></strong><span style="border: 0px\; font-style: inherit\; font-variant: inherit\; font-weight: inherit\; font-stretch: inherit\; line-height: inherit\; font-optical-sizing: inherit\; font-size-adjust: inherit\; font-kerning: inherit\; font-feature-settings: inherit\; font-variation-settings: inherit\; margin: 0px\; padding: 0px\; vertical-align: baseline\; color: rgb(85\, 85\, 85)\;"><strong>\,</strong>&nbsp\;</span>Commercial Payments Advisor at FNBO\, works closely with clients and provides tailored solutions for cash management needs\, fraud protections and innovative payments. By learning about businesses and their specific needs\, she can provide a holistic approach to each client to help achieve their goals.</span></span></p>\n\n<p style="color: rgb(0\, 0\, 0)\; font-size: 12pt\; font-family: Aptos\, sans-serif\; direction: ltr\; margin: 0px\;"><span style="font-family:arial\;"><span style="font-size:14px\;"><strong><span style="border: 0px\; font-style: inherit\; font-variant: inherit\; font-weight: inherit\; font-stretch: inherit\; line-height: inherit\; font-optical-sizing: inherit\; font-size-adjust: inherit\; font-kerning: inherit\; font-feature-settings: inherit\; font-variation-settings: inherit\; margin: 0px\; padding: 0px\; vertical-align: baseline\; color: blue\;"><u><a data-auth="NotApplicable" data-linkindex="3" href="https://www.fnbo.com/commercial-team/meduna-monty" id="OWA709e5f47-a68a-b2e9-ab3f-16644bbf5d2b" style="border: 0px\; font: inherit\; margin: 0px\; padding: 0px\; vertical-align: baseline\; color: blue\;" title="https://www.fnbo.com/commercial-team/meduna-monty">Monty Meduna</a></u></span>\,</strong> Senior Advisor of Commercial Banking at FNBO\, provides businesses large bank services but with the personal touch of a community bank committed to exceptional service. With more than 30 years in banking\, he is well positioned to provide informed guidance to help businesses meet their financial goals.</span></span></p>\n\n<hr />\n<p style="color: rgb(0\, 0\, 0)\; font-size: 12pt\; font-family: Aptos\, sans-serif\; direction: ltr\; margin: 0px\;"><span style="font-family:arial\;"><span style="font-size:14px\;"><strong data-end="2034" data-start="1995">About the Member Masterclass Series</strong><br data-end="2037" data-start="2034" />\nHosted by the Longmont Area Chamber of Commerce\, the Member Masterclass Series is a monthly learning and networking opportunity open to both members and non-members. Each session features practical insights from local experts to help you level up your skills\, expand your network\, and walk away with strategies you can apply immediately.</span></span></p>\n\n<p data-end="3184" data-start="2967"><span style="font-family:arial\;"><span style="font-size:14px\;"><strong data-end="3006" data-start="2967">Special Thanks to Our Sponsor: FNBO</strong><br data-end="3009" data-start="3006" />\nThe Member Masterclass Series is made possible through the generous support of FNBO\, a long-time Chamber partner committed to financial well-being and local economic growth.</span></span></p>\n</div>\n</div>\n</div>\n
LOCATION:Longmont Chamber Conference Room
UID:e.3083.14613
SEQUENCE:3
DTSTAMP:20260421T052334Z
URL:https://members.longmontchamber.org/events/details/member-masterclass-truth-or-trap-navigating-the-new-fraud-landscape-14613
END:VEVENT

END:VCALENDAR
